BEGIN:VCALENDAR
VERSION:2.0
PRODID:-//FEBRAPSI - ECPv6.15.20//NONSGML v1.0//EN
CALSCALE:GREGORIAN
METHOD:PUBLISH
X-WR-CALNAME:FEBRAPSI
X-ORIGINAL-URL:https://febrapsi.org
X-WR-CALDESC:Eventos para FEBRAPSI
REFRESH-INTERVAL;VALUE=DURATION:PT1H
X-Robots-Tag:noindex
X-PUBLISHED-TTL:PT1H
BEGIN:VTIMEZONE
TZID:America/Sao_Paulo
BEGIN:STANDARD
TZOFFSETFROM:-0300
TZOFFSETTO:-0300
TZNAME:-03
DTSTART:20200101T000000
END:STANDARD
END:VTIMEZONE
BEGIN:VEVENT
DTSTART;TZID=America/Sao_Paulo:20210812T190000
DTEND;TZID=America/Sao_Paulo:20210812T190000
DTSTAMP:20260424T033331
CREATED:20211014T064540Z
LAST-MODIFIED:20211014T080855Z
UID:38695-1628794800-1628794800@febrapsi.org
SUMMARY:Vídeo-Introdução da Aula Inaugural do Instituto da SBPRJ: PORQUE A PAZ?
DESCRIPTION:Com grande alegria realizamos um encontro memorável entre Psicanálise e Literatura\, na Aula Inaugural de 2021\, para celebrar a entrada no Instituto de Formação Psicanalítica da primeira turma de novos alunos com graduação em todas as áreas do conhecimento e\, também\, de bolsistas negros\, indígenas e refugiados.\nMomento de inflexão na nossa Sociedade na luta antirracista e uma honra contar com a presença\, saber e poesia de Marco Lucchesi\, presidente da Academia Brasileira de Letras.\nApesar de tanta disnomia a nossa volta\, é preciso celebrar o amor e a paz para a construção de um futuro mais justo e fraterno para as novas gerações.\nParabéns a todos\, todas e todis!\nLúcia Palazzo\nPresidente\nASSISTIR O VÍDEO-INTRODUÇÃO \nEM BREVE SERÁ DISPONIBILIZADO O VÍDEO COMPLETO!
URL:https://febrapsi.org/evento/video-introducao-da-aula-inaugural-do-instituto-da-sbprj-porque-a-paz/
CATEGORIES:Geral
END:VEVENT
END:VCALENDAR