BEGIN:VCALENDAR
VERSION:2.0
PRODID:-//FEBRAPSI - ECPv6.15.20//NONSGML v1.0//EN
CALSCALE:GREGORIAN
METHOD:PUBLISH
X-WR-CALNAME:FEBRAPSI
X-ORIGINAL-URL:https://febrapsi.org
X-WR-CALDESC:Eventos para FEBRAPSI
REFRESH-INTERVAL;VALUE=DURATION:PT1H
X-Robots-Tag:noindex
X-PUBLISHED-TTL:PT1H
BEGIN:VTIMEZONE
TZID:America/Sao_Paulo
BEGIN:STANDARD
TZOFFSETFROM:-0300
TZOFFSETTO:-0300
TZNAME:-03
DTSTART:20200101T000000
END:STANDARD
END:VTIMEZONE
BEGIN:VEVENT
DTSTART;TZID=America/Sao_Paulo:20210423T193900
DTEND;TZID=America/Sao_Paulo:20210423T193900
DTSTAMP:20260424T194725
CREATED:20211014T064238Z
LAST-MODIFIED:20211014T080857Z
UID:38650-1619206740-1619206740@febrapsi.org
SUMMARY:TRANSTORNOS ALIMENTARES: TRAUMAS E DESAFIOS
DESCRIPTION:Transtornos Alimentares: Traumas e Desafios
URL:https://febrapsi.org/evento/transtornos-alimentares-traumas-e-desafios/
CATEGORIES:Geral
ATTACH;FMTTYPE=image/jpeg:https://febrapsi.org/storage/2021/10/whatsapp-image-2021-04-21-at-16-29-44-2-ApMJbi.tmp_.jpg
ORGANIZER;CN="SPRJ":MAILTO:sprj.rio1@sprj.org.br
END:VEVENT
END:VCALENDAR