BEGIN:VCALENDAR
VERSION:2.0
PRODID:-//FEBRAPSI - ECPv6.15.20//NONSGML v1.0//EN
CALSCALE:GREGORIAN
METHOD:PUBLISH
X-WR-CALNAME:FEBRAPSI
X-ORIGINAL-URL:https://febrapsi.org
X-WR-CALDESC:Eventos para FEBRAPSI
REFRESH-INTERVAL;VALUE=DURATION:PT1H
X-Robots-Tag:noindex
X-PUBLISHED-TTL:PT1H
BEGIN:VTIMEZONE
TZID:America/Sao_Paulo
BEGIN:STANDARD
TZOFFSETFROM:-0200
TZOFFSETTO:-0300
TZNAME:-03
DTSTART:20190217T020000
END:STANDARD
END:VTIMEZONE
BEGIN:VEVENT
DTSTART;TZID=America/Sao_Paulo:20200523T000000
DTEND;TZID=America/Sao_Paulo:20200523T000000
DTSTAMP:20260424T025337
CREATED:20210615T035018Z
LAST-MODIFIED:20211014T080858Z
UID:8136-1590192000-1590192000@febrapsi.org
SUMMARY:SPRJ - Psicanálise e conflitos emocionais em tempo de Covid - 23 de maio de 2020\, às 11hs
DESCRIPTION:SPRJ – Psicanálise e conflitos emocionais em tempo de Covid – Dr. José Alberto Zusman \n 
URL:https://febrapsi.org/evento/sprj-psicanalise-e-conflitos-emocionais-em-tempo-de-covid-23-de-maio-de-2020-as-11hs/
CATEGORIES:Geral
END:VEVENT
END:VCALENDAR