BEGIN:VCALENDAR
VERSION:2.0
PRODID:-//FEBRAPSI - ECPv6.15.20//NONSGML v1.0//EN
CALSCALE:GREGORIAN
METHOD:PUBLISH
X-WR-CALNAME:FEBRAPSI
X-ORIGINAL-URL:https://febrapsi.org
X-WR-CALDESC:Eventos para FEBRAPSI
REFRESH-INTERVAL;VALUE=DURATION:PT1H
X-Robots-Tag:noindex
X-PUBLISHED-TTL:PT1H
BEGIN:VTIMEZONE
TZID:America/Sao_Paulo
BEGIN:STANDARD
TZOFFSETFROM:-0300
TZOFFSETTO:-0300
TZNAME:-03
DTSTART:20200101T000000
END:STANDARD
END:VTIMEZONE
BEGIN:VEVENT
DTSTART;TZID=America/Sao_Paulo:20210812T185900
DTEND;TZID=America/Sao_Paulo:20210812T185900
DTSTAMP:20260424T051147
CREATED:20211014T064540Z
LAST-MODIFIED:20211014T080855Z
UID:38694-1628794740-1628794740@febrapsi.org
SUMMARY:SIMPÓSIO 70 ANOS SBPSP
DESCRIPTION:Programa: \nMesa 1: \nHISTÓRIA DA PSICANÁLISE – ÉLISABETH ROUDINESCO\nHISTÓRIA DA SBPSP – CARMEN C. MION\nHISTÓRIA DO INSTITUTO – DORA TOGNOLLI: O instituto e o ziguzaguear dos tempos.\nCOORDENADORA – ANA MARIA STUCCHI VANNUCCHI \n  \nMesa 2:  \nPSICANÁLISE E LITERATURA\nADÉLIA BEZERRA DE MENESES: Literatura e Psicanálise: Leitura do humano\, leitura social.\nLUIZ CARLOS UCHÔA JUNQUEIRA FILHO: Uma compreensão da oposição finito-infinito proposta por Bion à luz da reciprocidade estética entre libido e legíaca e libido sensual.\nCOORDENADORA – GLAUCIA MARIA FERREIRA FURTADO  \n  \nMesa 3: \nPSICANÁLISE E CIÊNCIA\nOSWALDO GIACÓIA JUNIOR: E toda Ciência da Natureza não vai em direção em direção a uma tal Mitologia? \nELIAS MALLET DA ROCHA BARROS: Ciência? Que ciência? Psicanálise e arqueologia.\nCOORDENADOR – DARCY ANTONIO PORTOLESE \n  \nMesa 4: \nPSICANÁLISE E ARTE \nRICARDO FABBRINI: “Imagem e enigma”.\nLEOPOLD NOSEK: Psicanálise e arte: especulando\, qual seria a alternativa?\nCOORDENADOR – JOÃO AUGUSTO FRAYZE-PEREIRA \n  \nSAIBA MAIS SOBRE OS NOSSAS PALESTRANTES… \n  \nORGANIZAÇÃO DO EVENTO – MARTA FOSTER \n  \nINSCRIÇÕES: www.sbpsp.org.br \nINFORMAÇÕES: fabiana@sbpsp.org.br \nVALORES: \nMembros filiados da SBPSP\, alunos cursos DAC e Estudantes de graduação: R$ 250\,00 \nMembros da SBPSP\, FEBRAPSI \, IPA: R$ 250\,00 \nPúblico Externo: R$390\,00 \nInscrições até 06/09/2021 ou até esgotarem as vagas! \nTradução simultânea \n  \nA RENDA SERÁ DESTINADA AO CENTRO DE DOCUMENTAÇÃO E MEMÓRIA DA SBPSP PARA ATUALIZAÇÃO E DIGITALIZAÇÃO DO ACERVO.
URL:https://febrapsi.org/evento/simposio-70-anos-sbpsp/
CATEGORIES:Geral
END:VEVENT
END:VCALENDAR