BEGIN:VCALENDAR
VERSION:2.0
PRODID:-//FEBRAPSI - ECPv6.15.20//NONSGML v1.0//EN
CALSCALE:GREGORIAN
METHOD:PUBLISH
X-WR-CALNAME:FEBRAPSI
X-ORIGINAL-URL:https://febrapsi.org
X-WR-CALDESC:Eventos para FEBRAPSI
REFRESH-INTERVAL;VALUE=DURATION:PT1H
X-Robots-Tag:noindex
X-PUBLISHED-TTL:PT1H
BEGIN:VTIMEZONE
TZID:America/Sao_Paulo
BEGIN:STANDARD
TZOFFSETFROM:-0300
TZOFFSETTO:-0300
TZNAME:-03
DTSTART:20200101T000000
END:STANDARD
END:VTIMEZONE
BEGIN:VEVENT
DTSTART;TZID=America/Sao_Paulo:20210618T180900
DTEND;TZID=America/Sao_Paulo:20210618T180900
DTSTAMP:20260423T220126
CREATED:20211014T064352Z
LAST-MODIFIED:20211014T080856Z
UID:38674-1624039740-1624039740@febrapsi.org
SUMMARY:SAVE THE DATE - WEBINAR SOBRE OBSERVAÇÃO DE BEBÊS
DESCRIPTION:14h00 – Abertura\nCarmen C. Mion (Presidente da SBPSP)\nDarcy Antônio Portolese (Diretor de Atendimento à Comunidade da SBPSP)\nIara de Spada Bondioli de Souza Noto (Coordenadora do Cinapsia)\nMaria Cecília Pereira da Silva (Coordenadora da Clínica 0 a 3) \nCoordenadora\nAlessandra Ricciardi Gordon (Psicanalista SBPSP) \nDebatedores\nAndy Spitz (Diretora de documentários)\nAlicia Beatriz Dorado de Lisondo (Psicanalista SBPSP e GEPCampinas\, Alobb)\nGianna Williams (Psicanalista – SBP)\nMaria Cecília Pereira da Silva (Psicanalista SBPSP)\nMariângela Mendes de Almeida (Membro Filiado da SBPSP e Sedes Sapientae) \nComissão organizadora\nAlessandra Ricciardi Gordon\nLigia Todescan Lessa Mattos\nMaria Cecília Pereira da Silva\nMariângela Mendes de Almeida \nAndy Spitz é diretora de documentários há 20 anos e consultora freelance focada nas consequências sociais\, econômicas e direitos humanos de empreendimentos em grande escala. A maior parte de seu trabalho se concentra em pequenas histórias íntimas com ressonância universal. Alguns de seus filmes foram exibidos em festivais internacionais de documentários e estão sendo usados ​​para treinamento por várias organizações da ONU\, ONGs e universidades. \nGianna Williams é psicanalista de adultos e crianças da British Psychoanalytical Society. É ex- Consultora de Psicoterapeutas de Crianças e Adolescentes na Clínica Tavistock e introduziu os Cursos de Psicoterapia Infantil no Modelo Tavistock em cinco cidades italianas. Implantou a Observação de bebês como um módulo obrigatório para estudantes de Neuro Psiquiatria Infantil na Universidade de Pisa. É Consultora da ONG para meninos de rua no México: “Juntos con los ninos”. Possui vários artigos e livros publicados\, muitos relativos aos transtornos alimentares. \nEste documentário acompanha três bebês sul-africanos e suas famílias durante o primeiro ano de vida.  \nO filme e o debate promoverão oportunidades e insights únicos na discussão ao vivo com profissionais experientes na observação de bebês segundo o método proposto por Esther Bick\, na psicanálise de crianças e na clínica com pais-bebês. \nTradução simultânea – Flávia Romano \nApós a inscrição um link estará disponível para assistir ao documentário nos 5 dias anteriores ao evento. \n\n\n\n \nEvento online\nINSCREVA-SE\n\n\nInformações\nfabiana.santos@sbpsp.org.br\n\n\n \n \n\n\n 
URL:https://febrapsi.org/evento/save-the-date-webinar-sobre-observacao-de-bebes/
CATEGORIES:Geral
END:VEVENT
END:VCALENDAR