BEGIN:VCALENDAR
VERSION:2.0
PRODID:-//FEBRAPSI - ECPv6.15.20//NONSGML v1.0//EN
CALSCALE:GREGORIAN
METHOD:PUBLISH
X-WR-CALNAME:FEBRAPSI
X-ORIGINAL-URL:https://febrapsi.org
X-WR-CALDESC:Eventos para FEBRAPSI
REFRESH-INTERVAL;VALUE=DURATION:PT1H
X-Robots-Tag:noindex
X-PUBLISHED-TTL:PT1H
BEGIN:VTIMEZONE
TZID:America/Sao_Paulo
BEGIN:STANDARD
TZOFFSETFROM:-0300
TZOFFSETTO:-0300
TZNAME:-03
DTSTART:20250101T000000
END:STANDARD
END:VTIMEZONE
BEGIN:VEVENT
DTSTART;TZID=America/Sao_Paulo:20260516T100000
DTEND;TZID=America/Sao_Paulo:20260516T120000
DTSTAMP:20260423T210349
CREATED:20260423T203033Z
LAST-MODIFIED:20260423T203033Z
UID:59691-1778925600-1778932800@febrapsi.org
SUMMARY:REALIDADES  CLÍNICAS DIÁLOGO TEÓRICO CLÍNICO COM OS DILEMAS DA PSICANÁLISE CONTEMPORÂNEA
DESCRIPTION:O autor discute o estatuto do inconsciente na psicanálise contemporânea. Examina criticamente como a psicanálise atual compreende traumas precoces\, fragmentos não simbolizados e processos de transformação psíquica\, e formula um conjunto de dilemas metapsicológicos e clínicos sobre onde\, como e em que condições o não representado se torna experiência psíquica pensável.\n\nApresentador\nELIAS MALLET DA ROCHA BARROS\nMembro efetivo e didata da SBPSP\n\nComentário\nANDREIA ROCHA DE VASCONCELLOS\nIP/SBPSP\n\nCoordenação: RAYA ANGEL ZONANA (SBPSP)\n\nLocal: Av. Dr. Cardoso de Melo\, 1450\, 1º andar\,\nAuditório SBPSP\, Vila Olímpia\, São Paulo / SP\n\nInvestimento: Membros SBPSP / FEBRAPSI / FEPAL / IPA: Sem ônus\nProfissionais: R$ 80\,00\nEstudantes de Graduação / alunos dos cursos da DAC\nProfissionais da rede pública: R$ 40\,00\n10% das vagas reservadas para profissionais negros\, indígenas e refugiados.
URL:https://febrapsi.org/evento/realidades-clinicas-dialogo-teorico-clinico-com-os-dilemas-da-psicanalise-contemporanea/
LOCATION:Sede SBPSP\, Av. Dr. Cardoso de Melo\, 1450\, 9ª andar\, São Paulo\, São Paulo\, 04548005\, Brasil
CATEGORIES:Geral
ATTACH;FMTTYPE=image/png:https://febrapsi.org/storage/2026/04/REALIDADES-16-5-26b.png
ORGANIZER;CN="SBPSP":MAILTO:contato@sbpsp.org.br
END:VEVENT
END:VCALENDAR