BEGIN:VCALENDAR
VERSION:2.0
PRODID:-//FEBRAPSI - ECPv6.15.20//NONSGML v1.0//EN
CALSCALE:GREGORIAN
METHOD:PUBLISH
X-WR-CALNAME:FEBRAPSI
X-ORIGINAL-URL:https://febrapsi.org
X-WR-CALDESC:Eventos para FEBRAPSI
REFRESH-INTERVAL;VALUE=DURATION:PT1H
X-Robots-Tag:noindex
X-PUBLISHED-TTL:PT1H
BEGIN:VTIMEZONE
TZID:America/Sao_Paulo
BEGIN:STANDARD
TZOFFSETFROM:-0300
TZOFFSETTO:-0300
TZNAME:-03
DTSTART:20200101T000000
END:STANDARD
END:VTIMEZONE
BEGIN:VEVENT
DTSTART;TZID=America/Sao_Paulo:20210610T153800
DTEND;TZID=America/Sao_Paulo:20210610T153800
DTSTAMP:20260423T233720
CREATED:20211014T064337Z
LAST-MODIFIED:20211014T080856Z
UID:38669-1623339480-1623339480@febrapsi.org
SUMMARY:Quinta Científica “Reflexões sobre o silenciamento das mulheres e de sua sexualidade”
DESCRIPTION:Convidamos para a Quinta Científica “Reflexões sobre o silenciamento das mulheres e de sua sexualidade”\, no dia 10 de junho (quinta-feira)\, às 20h30\, na plataforma Zoom/SPPA.Apresentação: Sérgio Lewkowicz\nCoordenação: Maurício Marx e Silva \nClique aqui para acessar o texto –  publicado na Revista on-line: “Horizontes Psicanalíticos” Revista I – Ano 2021. \nInscrições antecipadas:\nhttps://zoom.us/webinar/register/WN_twa8adivQtuQmKv5cG9lBg \nAtividade aberta e gratuita. \nAtenciosamente\,\nJosé Carlos Calich- Presidente da SPPA\nMaurício Marx e Silva – Diretor Científico da SPPA \n 
URL:https://febrapsi.org/evento/quinta-cientifica-reflexoes-sobre-o-silenciamento-das-mulheres-e-de-sua-sexualidade/
CATEGORIES:Geral
ORGANIZER;CN="SPPA":MAILTO:sppa@sppa.org.br
END:VEVENT
END:VCALENDAR