BEGIN:VCALENDAR
VERSION:2.0
PRODID:-//FEBRAPSI - ECPv6.15.20//NONSGML v1.0//EN
CALSCALE:GREGORIAN
METHOD:PUBLISH
X-WR-CALNAME:FEBRAPSI
X-ORIGINAL-URL:https://febrapsi.org
X-WR-CALDESC:Eventos para FEBRAPSI
REFRESH-INTERVAL;VALUE=DURATION:PT1H
X-Robots-Tag:noindex
X-PUBLISHED-TTL:PT1H
BEGIN:VTIMEZONE
TZID:America/Sao_Paulo
BEGIN:STANDARD
TZOFFSETFROM:-0200
TZOFFSETTO:-0300
TZNAME:-03
DTSTART:20180218T020000
END:STANDARD
BEGIN:DAYLIGHT
TZOFFSETFROM:-0300
TZOFFSETTO:-0200
TZNAME:-02
DTSTART:20181104T030000
END:DAYLIGHT
BEGIN:STANDARD
TZOFFSETFROM:-0200
TZOFFSETTO:-0300
TZNAME:-03
DTSTART:20190217T020000
END:STANDARD
END:VTIMEZONE
BEGIN:VEVENT
DTSTART;TZID=America/Sao_Paulo:20191212T000000
DTEND;TZID=America/Sao_Paulo:20191212T000000
DTSTAMP:20260423T234915
CREATED:20210615T034933Z
LAST-MODIFIED:20211014T080859Z
UID:8118-1576108800-1576108800@febrapsi.org
SUMMARY:Quinta Científica dos Candidatos - Poltrona elástica? Divã transicional? Reflexões sobre a minha poltrona giratória - SPPA
DESCRIPTION:Convidamos para Quinta Científica dos Candidatos\, dia 12 de dezembro\, às 20h30\, no Anfiteatro do 4º andar da SPPA. \nTítulo: Poltrona elástica? Divã transicional? Reflexões sobre a minha poltrona giratória\n Apresentadora: Ana Lúcia Monteiro Oliveira\n Comentaristas: Anette Blaya Luz\, Lea Lubianca Thormann e Cláudio Laks Eizirik 
URL:https://febrapsi.org/evento/quinta-cientifica-dos-candidatos-poltrona-elastica-diva-transicional-reflexoes-sobre-a-minha-poltrona-giratoria-sppa/
CATEGORIES:Geral
ATTACH;FMTTYPE=image/jpeg:https://febrapsi.org/storage/2021/06/2019-12-12-quinta-cientifica-dos-candidatos-7r8Wsx.tmp_.jpg
END:VEVENT
END:VCALENDAR