BEGIN:VCALENDAR
VERSION:2.0
PRODID:-//FEBRAPSI - ECPv6.15.20//NONSGML v1.0//EN
CALSCALE:GREGORIAN
METHOD:PUBLISH
X-WR-CALNAME:FEBRAPSI
X-ORIGINAL-URL:https://febrapsi.org
X-WR-CALDESC:Eventos para FEBRAPSI
REFRESH-INTERVAL;VALUE=DURATION:PT1H
X-Robots-Tag:noindex
X-PUBLISHED-TTL:PT1H
BEGIN:VTIMEZONE
TZID:America/Sao_Paulo
BEGIN:STANDARD
TZOFFSETFROM:-0300
TZOFFSETTO:-0300
TZNAME:-03
DTSTART:20200101T000000
END:STANDARD
END:VTIMEZONE
BEGIN:VEVENT
DTSTART;TZID=America/Sao_Paulo:20210805T174600
DTEND;TZID=America/Sao_Paulo:20210805T174600
DTSTAMP:20260424T045724
CREATED:20211014T064423Z
LAST-MODIFIED:20211014T080855Z
UID:38689-1628185560-1628185560@febrapsi.org
SUMMARY:Quinta Científica dos Candidatos - O pensar por imagens de Dora
DESCRIPTION:Prezados\, \nCom muita satisfação\, gostaríamos de comunicar o trabalho selecionado para a Quinta Científica dos Candidatos intitulado: O pensar por imagens de Dora\, de autoria da colega Débora Zaffari Lora. \nSerá apresentado em atividade aberta no dia 12 de agosto 2021\, às 20h30\, e terá como comentarista a colega Ellen Andrea Bornholdt Epifanio.\nCoordenadora: Julia Frozi (Presidente da Associação de Candidatos).\n \n  \nInscrições Antecipadas:\nhttps://zoom.us/webinar/register/WN_d–z8022Q3y9jarNszddug \n  \nAtenciosamente\, \n \nAC-SPPA \nGestão 2021/22:\nPresidente: Júlia Frozi\nSecretária: Stefania Teche\nTesoureiro: Rodrigo Chazan\nRepresentante egressos: Betina Kruter
URL:https://febrapsi.org/evento/quinta-cientifica-dos-candidatos-o-pensar-por-imagens-de-dora/
CATEGORIES:Geral
ATTACH;FMTTYPE=image/jpeg:https://febrapsi.org/storage/2021/10/2021-08-12-quinta-cientifica-dos-candidatos-UzOwAc.tmp_.jpg
ORGANIZER;CN="SPPA":MAILTO:sppa@sppa.org.br
END:VEVENT
END:VCALENDAR