BEGIN:VCALENDAR
VERSION:2.0
PRODID:-//FEBRAPSI - ECPv6.15.20//NONSGML v1.0//EN
CALSCALE:GREGORIAN
METHOD:PUBLISH
X-WR-CALNAME:FEBRAPSI
X-ORIGINAL-URL:https://febrapsi.org
X-WR-CALDESC:Eventos para FEBRAPSI
REFRESH-INTERVAL;VALUE=DURATION:PT1H
X-Robots-Tag:noindex
X-PUBLISHED-TTL:PT1H
BEGIN:VTIMEZONE
TZID:America/Sao_Paulo
BEGIN:STANDARD
TZOFFSETFROM:-0300
TZOFFSETTO:-0300
TZNAME:-03
DTSTART:20200101T000000
END:STANDARD
END:VTIMEZONE
BEGIN:VEVENT
DTSTART;TZID=America/Sao_Paulo:20211111T203000
DTEND;TZID=America/Sao_Paulo:20211111T203000
DTSTAMP:20260423T165011
CREATED:20211116T191715Z
LAST-MODIFIED:20211116T191734Z
UID:39688-1636662600-1636662600@febrapsi.org
SUMMARY:Quinta Científica do Comitê de Psicanálise de Família e Casal da SPPA "O papel dos segredos na invenção ou reinvenção das famílias"
DESCRIPTION:Convidamos para a Quinta Científica do Comitê de Psicanálise de Família e Casal da SPPA “O papel dos segredos na invenção ou reinvenção das famílias”\, dia 11 de novembro (quinta-feira)\, às 20h30\, na Plataforma Zoom/SPPA.\nApresentação inicial da história do grupo e uma breve introdução ao debate. \nApresentadoras:\nMonica Vorchheimer (Analista com função didática na APdeBA)\nSusana Muszkat (Psicanalista\, Membro efetivo e docente da SBPSP\, analista individual\, de casal e família)\nCoordenação:\nMaurício Marx e Silva (Diretor Científico da SPPA) \nTexto: “El papel de los secretos en la invención o reinvención de las familias”\nClique aqui para acesar o texto\nTexto: “O papel dos segredos na invençao ou reinvencão das familias”\nClique aqui para acessar o texto traduzido (português) \nAtividade Restrita:\nMembros da SPPA\, FEBRAPSI\, FEPAL e IPA\nInscrições Antecipadas:\nhttps://us06web.zoom.us/webinar/register/WN_o3nFseA_SjezmHEEB9mHtw
URL:https://febrapsi.org/evento/quinta-cientifica-do-comite-de-psicanalise-de-familia-e-casal-da-sppa-o-papel-dos-segredos-na-invenc%cc%a7ao-ou-reinvenca%cc%83o-das-familias/
LOCATION:Online – Plataforma Zoom
CATEGORIES:Geral
ATTACH;FMTTYPE=image/jpeg:https://febrapsi.org/storage/2021/11/Quinta-Científica-do-Comitê-de-Psicanálise-de-Família-e-Casal-da-SPPA-O-papel-dos-segredos-na-invenção-ou-reinvenção-das-famílias.jpg
ORGANIZER;CN="SPPA":MAILTO:sppa@sppa.org.br
END:VEVENT
END:VCALENDAR