BEGIN:VCALENDAR
VERSION:2.0
PRODID:-//FEBRAPSI - ECPv6.15.20//NONSGML v1.0//EN
CALSCALE:GREGORIAN
METHOD:PUBLISH
X-WR-CALNAME:FEBRAPSI
X-ORIGINAL-URL:https://febrapsi.org
X-WR-CALDESC:Eventos para FEBRAPSI
REFRESH-INTERVAL;VALUE=DURATION:PT1H
X-Robots-Tag:noindex
X-PUBLISHED-TTL:PT1H
BEGIN:VTIMEZONE
TZID:America/Sao_Paulo
BEGIN:STANDARD
TZOFFSETFROM:-0300
TZOFFSETTO:-0300
TZNAME:-03
DTSTART:20200101T000000
END:STANDARD
END:VTIMEZONE
BEGIN:VEVENT
DTSTART;TZID=America/Sao_Paulo:20211118T203000
DTEND;TZID=America/Sao_Paulo:20211118T203000
DTSTAMP:20260423T164307
CREATED:20211116T191240Z
LAST-MODIFIED:20211116T191306Z
UID:39685-1637267400-1637267400@febrapsi.org
SUMMARY:Quinta Científica da Diretoria da Infância e Adolescência: “DESAFIOS ATUAIS NA ABORDAGEM DO AUTISMO”
DESCRIPTION:A Diretoria da Infância e Adolescência Convida para a Quinta Científica da DIA: “DESAFIOS ATUAIS NA ABORDAGEM DO AUTISMO”\, dia 18 de novembro (quinta-feira)\, às 20h30\, na Plataforma Zoom/SPPA. \nA apresentação versará sobre as características clinicas e a classificação diagnóstica dos transtornos do espectro autista (TEA)\, processo diagnóstico\, questões epidemiológicas associadas ao (TEA) e principais intervenções indicadas para o tratamento. \nA seguir serão discutidas algumas noções sobre o funcionamento da mente primordial\, seguindo o referencial de Bion\, Green e Tustin\, propondo investigar os instrumentos que o analista dispõe para penetrar barreiras autistas. Será abordada a utilização da “linguagem da emoção”\, uma linguagem que facilita o contato emocional com estados primordiais da mente. \nApresentação:\nCelia Fix Korbivcher (Psicanalista – SBPSP)\nAna Soledade Martins (Psiquiatra – UFRGS) \nCoordenação:\nNara Amália Caron (Diretora da Infância e Adolescência SPPA) \nAtividade Aberta e Gratuita \nInscrições Antecipadas:\nhttps://us06web.zoom.us/webinar/register/WN_3x0H74S-RtKxTy-AYO22iA
URL:https://febrapsi.org/evento/quinta-cientifica-da-diretoria-da-infancia-e-adolescencia-desafios-atuais-na-abordagem-do-autismo/
CATEGORIES:Geral
ATTACH;FMTTYPE=image/jpeg:https://febrapsi.org/storage/2021/11/Quinta-Científica-da-Diretoria-da-Infância-e-Adolescência-DESAFIOS-ATUAIS-NA-ABORDAGEM-DO-AUTISMO.jpg
END:VEVENT
END:VCALENDAR