BEGIN:VCALENDAR
VERSION:2.0
PRODID:-//FEBRAPSI - ECPv6.15.20//NONSGML v1.0//EN
CALSCALE:GREGORIAN
METHOD:PUBLISH
X-WR-CALNAME:FEBRAPSI
X-ORIGINAL-URL:https://febrapsi.org
X-WR-CALDESC:Eventos para FEBRAPSI
REFRESH-INTERVAL;VALUE=DURATION:PT1H
X-Robots-Tag:noindex
X-PUBLISHED-TTL:PT1H
BEGIN:VTIMEZONE
TZID:America/Sao_Paulo
BEGIN:STANDARD
TZOFFSETFROM:-0200
TZOFFSETTO:-0300
TZNAME:-03
DTSTART:20180218T020000
END:STANDARD
BEGIN:DAYLIGHT
TZOFFSETFROM:-0300
TZOFFSETTO:-0200
TZNAME:-02
DTSTART:20181104T030000
END:DAYLIGHT
BEGIN:STANDARD
TZOFFSETFROM:-0200
TZOFFSETTO:-0300
TZNAME:-03
DTSTART:20190217T020000
END:STANDARD
END:VTIMEZONE
BEGIN:VEVENT
DTSTART;TZID=America/Sao_Paulo:20191003T000000
DTEND;TZID=America/Sao_Paulo:20191003T000000
DTSTAMP:20260424T110854
CREATED:20210615T034848Z
LAST-MODIFIED:20211014T080859Z
UID:8093-1570060800-1570060800@febrapsi.org
SUMMARY:Quinta Científica - “Assunto de Família: é assunto para psicanálise” - A propósito de um filme - SPPA
DESCRIPTION:Convidamos para a Quinta Científica\, dia 03 de outubro (quinta-feira)\, às 20h30\, no Anfiteatro da SPPA. “Assunto de Família: é assunto para psicanálise” – A propósito de um filme. \n Parceria SPPA/Smed\n Parceria SPPA/ Pescar
URL:https://febrapsi.org/evento/quinta-cientifica-assunto-de-familia-e-assunto-para-psicanalise-a-proposito-de-um-filme-sppa/
CATEGORIES:Geral
END:VEVENT
END:VCALENDAR