BEGIN:VCALENDAR
VERSION:2.0
PRODID:-//FEBRAPSI - ECPv6.15.20//NONSGML v1.0//EN
CALSCALE:GREGORIAN
METHOD:PUBLISH
X-WR-CALNAME:FEBRAPSI
X-ORIGINAL-URL:https://febrapsi.org
X-WR-CALDESC:Eventos para FEBRAPSI
REFRESH-INTERVAL;VALUE=DURATION:PT1H
X-Robots-Tag:noindex
X-PUBLISHED-TTL:PT1H
BEGIN:VTIMEZONE
TZID:America/Sao_Paulo
BEGIN:STANDARD
TZOFFSETFROM:-0200
TZOFFSETTO:-0300
TZNAME:-03
DTSTART:20180218T020000
END:STANDARD
BEGIN:DAYLIGHT
TZOFFSETFROM:-0300
TZOFFSETTO:-0200
TZNAME:-02
DTSTART:20181104T030000
END:DAYLIGHT
BEGIN:STANDARD
TZOFFSETFROM:-0200
TZOFFSETTO:-0300
TZNAME:-03
DTSTART:20190217T020000
END:STANDARD
END:VTIMEZONE
BEGIN:VEVENT
DTSTART;TZID=America/Sao_Paulo:20190801T000000
DTEND;TZID=America/Sao_Paulo:20190801T000000
DTSTAMP:20260422T221913
CREATED:20210615T034746Z
LAST-MODIFIED:20211014T080859Z
UID:8064-1564617600-1564617600@febrapsi.org
SUMMARY:Quinta Científica - Algumas considerações psicanalíticas sobre ‘O sanduíche’\, de Jorge Furtado - SPPA
DESCRIPTION:Convidamos para a Quinta Científica\, dia 01 de Agosto (quinta-feira)\, às 20h30\, no Anfiteatro da SPPA.  Algumas considerações psicanalíticas sobre “O sanduíche”\, de Jorge Furtado.\n Autores: Ana Rita Taschetto\, Ângela Eliza Bolognesi Barbosa\, Elena Beatriz Tomasel\, Juarez Guedes Cruz e Leonita Beatriz Tramontina Serena. \nParticipação especial e comentários: Jorge Furtado
URL:https://febrapsi.org/evento/quinta-cientifica-algumas-consideracoes-psicanaliticas-sobre-o-sanduiche-de-jorge-furtado-sppa/
CATEGORIES:Geral
END:VEVENT
END:VCALENDAR