BEGIN:VCALENDAR
VERSION:2.0
PRODID:-//FEBRAPSI - ECPv6.15.20//NONSGML v1.0//EN
CALSCALE:GREGORIAN
METHOD:PUBLISH
X-WR-CALNAME:FEBRAPSI
X-ORIGINAL-URL:https://febrapsi.org
X-WR-CALDESC:Eventos para FEBRAPSI
REFRESH-INTERVAL;VALUE=DURATION:PT1H
X-Robots-Tag:noindex
X-PUBLISHED-TTL:PT1H
BEGIN:VTIMEZONE
TZID:America/Sao_Paulo
BEGIN:STANDARD
TZOFFSETFROM:-0300
TZOFFSETTO:-0300
TZNAME:-03
DTSTART:20200101T000000
END:STANDARD
END:VTIMEZONE
BEGIN:VEVENT
DTSTART;TZID=America/Sao_Paulo:20210713T211700
DTEND;TZID=America/Sao_Paulo:20210713T211700
DTSTAMP:20260423T192941
CREATED:20211014T064408Z
LAST-MODIFIED:20211014T080856Z
UID:38681-1626211020-1626211020@febrapsi.org
SUMMARY:Psicanálise em tempos de desamparo
DESCRIPTION:Curso on-line: “Psicanálise em Tempos de Desamparo” \nInicio: 10/08/21  – 19h.  \nEncontros semanais via Zoom \nMÓDULOS: \nI SITUANDO O CONTEMPORÂNEO \nII DESAMPARO E TRAUMA \nIII ABORDAGENS CLÍNICAS \n  \nINSCRIÇÕES: sppelotas@gmail.com \nFREQUÊNCIA SEMANAL ÀS TERÇAS\, 19h \nINVESTIMENTO: 4 PARCELAS DE R$150\,00 \nMINISTRANTES: Catherine Lapolli\, Ceres Tavares\, Hemerson Mendes\, Sandra Bertoldi \n 
URL:https://febrapsi.org/evento/psicanalise-em-tempos-de-desamparo/
CATEGORIES:Geral
END:VEVENT
END:VCALENDAR