BEGIN:VCALENDAR
VERSION:2.0
PRODID:-//FEBRAPSI - ECPv6.15.20//NONSGML v1.0//EN
CALSCALE:GREGORIAN
METHOD:PUBLISH
X-WR-CALNAME:FEBRAPSI
X-ORIGINAL-URL:https://febrapsi.org
X-WR-CALDESC:Eventos para FEBRAPSI
REFRESH-INTERVAL;VALUE=DURATION:PT1H
X-Robots-Tag:noindex
X-PUBLISHED-TTL:PT1H
BEGIN:VTIMEZONE
TZID:America/Sao_Paulo
BEGIN:STANDARD
TZOFFSETFROM:-0300
TZOFFSETTO:-0300
TZNAME:-03
DTSTART:19690101T000000
END:STANDARD
END:VTIMEZONE
BEGIN:VEVENT
DTSTART;TZID=America/Sao_Paulo:20260423T040603
DTEND;TZID=America/Sao_Paulo:20260423T040603
DTSTAMP:20260423T040603
CREATED:20210615T035148Z
LAST-MODIFIED:20211014T080902Z
UID:8184-0-0@febrapsi.org
SUMMARY:Psicanálise e Família - Grupo de estudos
DESCRIPTION:Psicanálise e Família – Grupo de estudos
URL:https://febrapsi.org/evento/psicanalise-e-familia-grupo-de-estudos/
CATEGORIES:Geral
ATTACH;FMTTYPE=image/jpeg:https://febrapsi.org/storage/2021/06/grupo-de-estudos-psicanalise-e-familia-inicio-10-09-qSEJCS.tmp_.jpg
END:VEVENT
END:VCALENDAR