BEGIN:VCALENDAR
VERSION:2.0
PRODID:-//FEBRAPSI - ECPv6.15.20//NONSGML v1.0//EN
CALSCALE:GREGORIAN
METHOD:PUBLISH
X-WR-CALNAME:FEBRAPSI
X-ORIGINAL-URL:https://febrapsi.org
X-WR-CALDESC:Eventos para FEBRAPSI
REFRESH-INTERVAL;VALUE=DURATION:PT1H
X-Robots-Tag:noindex
X-PUBLISHED-TTL:PT1H
BEGIN:VTIMEZONE
TZID:America/Sao_Paulo
BEGIN:STANDARD
TZOFFSETFROM:-0300
TZOFFSETTO:-0300
TZNAME:-03
DTSTART:20200101T000000
END:STANDARD
END:VTIMEZONE
BEGIN:VEVENT
DTSTART;TZID=America/Sao_Paulo:20210615T035600
DTEND;TZID=America/Sao_Paulo:20210615T035600
DTSTAMP:20260424T054326
CREATED:20210615T035604Z
LAST-MODIFIED:20211014T080856Z
UID:8200-1623729360-1623729360@febrapsi.org
SUMMARY:Psicanálise e Arte em Sessão - 1984\, de George Orwell
DESCRIPTION:1984\, de George Orwell\, representa uma alegoria de uma sociedade inteiramente dominada pelo Estado. A observação vigilante do poder supõe uma intervenção até na linguagem.\n.\nO livro fundamenta-se na busca da interpretação única (uma só versão do passado e do presente) capaz de manter o controle sobre a vida social e individual\, suscitando reflexões ao mostrar que o controle das massas através da manipulação da linguagem e do uso da mentira institucionalizada pelo Estado não se atém apenas ao totalitarismo\, pois pode acontecer em regimes democráticos.\n.\nVivemos na era das fake news\, da pós-verdade\, das teorias conspiratórias\, do fanatismo ideológico. O que a psicanálise tem a dizer sobre isso?\n.\nNo dia 29/01/2021\, às 20h\, pelo canal da SPFOR no YouTube\, (https://www.youtube.com/c/SPFOR) receberemos a socióloga e professora Irlys Barreira e o psicanalista e escritor Sérgio Telles. A coordenação do Psicanálise e Arte em sessão será realizada pela psicanalista Maria José de Andrade Souza.
URL:https://febrapsi.org/evento/psicanalise-e-arte-em-sessao-1984-de-george-orwell/
CATEGORIES:Geral
ATTACH;FMTTYPE=image/jpeg:https://febrapsi.org/storage/2021/06/psicanalise-e-arte-2021-janeiro-icqaSi.tmp_.jpg
END:VEVENT
END:VCALENDAR