BEGIN:VCALENDAR
VERSION:2.0
PRODID:-//FEBRAPSI - ECPv6.15.20//NONSGML v1.0//EN
CALSCALE:GREGORIAN
METHOD:PUBLISH
X-WR-CALNAME:FEBRAPSI
X-ORIGINAL-URL:https://febrapsi.org
X-WR-CALDESC:Eventos para FEBRAPSI
REFRESH-INTERVAL;VALUE=DURATION:PT1H
X-Robots-Tag:noindex
X-PUBLISHED-TTL:PT1H
BEGIN:VTIMEZONE
TZID:America/Sao_Paulo
BEGIN:STANDARD
TZOFFSETFROM:-0300
TZOFFSETTO:-0300
TZNAME:-03
DTSTART:19690101T000000
END:STANDARD
END:VTIMEZONE
BEGIN:VEVENT
DTSTART;TZID=America/Sao_Paulo:20260422T224803
DTEND;TZID=America/Sao_Paulo:20260422T224803
DTSTAMP:20260422T224803
CREATED:20210615T035147Z
LAST-MODIFIED:20211014T080902Z
UID:8180-0-0@febrapsi.org
SUMMARY:Primeira Jornada Cowap Brasil
DESCRIPTION:Primeira Jornada Cowap Brasil: As várias faces do amor
URL:https://febrapsi.org/evento/primeira-jornada-cowap-brasil/
CATEGORIES:Geral
ATTACH;FMTTYPE=image/jpeg:https://febrapsi.org/storage/2021/06/whatsapp-image-2020-10-29-at-08-40-10-1-1hEUts.tmp_.jpg
END:VEVENT
END:VCALENDAR