BEGIN:VCALENDAR
VERSION:2.0
PRODID:-//FEBRAPSI - ECPv6.15.20//NONSGML v1.0//EN
CALSCALE:GREGORIAN
METHOD:PUBLISH
X-WR-CALNAME:FEBRAPSI
X-ORIGINAL-URL:https://febrapsi.org
X-WR-CALDESC:Eventos para FEBRAPSI
REFRESH-INTERVAL;VALUE=DURATION:PT1H
X-Robots-Tag:noindex
X-PUBLISHED-TTL:PT1H
BEGIN:VTIMEZONE
TZID:America/Sao_Paulo
BEGIN:STANDARD
TZOFFSETFROM:-0300
TZOFFSETTO:-0300
TZNAME:-03
DTSTART:20200101T000000
END:STANDARD
END:VTIMEZONE
BEGIN:VEVENT
DTSTART;TZID=America/Sao_Paulo:20210409T214800
DTEND;TZID=America/Sao_Paulo:20210409T214800
DTSTAMP:20260425T150653
CREATED:20211014T064035Z
LAST-MODIFIED:20211014T080857Z
UID:38634-1618004880-1618004880@febrapsi.org
SUMMARY:PATOLOGIAS NARCÍSICAS E TRANSTORNOS BORDERLINE
DESCRIPTION:PATOLOGIAS NARCÍSICAS E TRANSTORNOS BORDERLINE
URL:https://febrapsi.org/evento/patologias-narcisicas-e-transtornos-borderline/
CATEGORIES:Geral
ATTACH;FMTTYPE=image/jpeg:https://febrapsi.org/storage/2021/10/whatsapp-image-2021-03-22-at-11-09-48-A42kMO.tmp_.jpg
ORGANIZER;CN="SPRJ":MAILTO:sprj.rio1@sprj.org.br
END:VEVENT
END:VCALENDAR