BEGIN:VCALENDAR
VERSION:2.0
PRODID:-//FEBRAPSI - ECPv6.15.20//NONSGML v1.0//EN
CALSCALE:GREGORIAN
METHOD:PUBLISH
X-WR-CALNAME:FEBRAPSI
X-ORIGINAL-URL:https://febrapsi.org
X-WR-CALDESC:Eventos para FEBRAPSI
REFRESH-INTERVAL;VALUE=DURATION:PT1H
X-Robots-Tag:noindex
X-PUBLISHED-TTL:PT1H
BEGIN:VTIMEZONE
TZID:America/Sao_Paulo
BEGIN:STANDARD
TZOFFSETFROM:-0200
TZOFFSETTO:-0300
TZNAME:-03
DTSTART:20180218T020000
END:STANDARD
BEGIN:DAYLIGHT
TZOFFSETFROM:-0300
TZOFFSETTO:-0200
TZNAME:-02
DTSTART:20181104T030000
END:DAYLIGHT
BEGIN:STANDARD
TZOFFSETFROM:-0200
TZOFFSETTO:-0300
TZNAME:-03
DTSTART:20190217T020000
END:STANDARD
END:VTIMEZONE
BEGIN:VEVENT
DTSTART;TZID=America/Sao_Paulo:20191122T000000
DTEND;TZID=America/Sao_Paulo:20191122T000000
DTSTAMP:20260423T200630
CREATED:20210615T034932Z
LAST-MODIFIED:20211014T080859Z
UID:8116-1574380800-1574380800@febrapsi.org
SUMMARY:Palestra Sándor Ferenczi: o estilo empático e a psicanálise contemporânea\, com Daniel Kupermann
DESCRIPTION: Diretoria Científica da SPBsb convida para a palestra Sándor Ferenczi: o estilo empático e a psicanálise contemporânea\, com Daniel Kupermann\, Psicanalista e Presidente do grupo Brasileiro de pesquisas Sándor Ferenczi\, Livre-docente do Dep. de Psicologia Clínica do Instituto de Psicologia da USP. Na ocasião\, Kupermann vai lançar seu livro “Por que Ferenczi?” A coordenação será de Lúcia Eugênia Velloso Passarinho\, diretora cientifica da SPBsb e membro titular do Comitê de Casal e Família da Fepal. \nDia 22 de novembro\, sexta-feira\, às 20h30 na Aliança Francesa (SEPS 708/908\, Lote A – Asa Sul)  \nInscrição e mais informações clique no link abaixo. \n  \nInscrição – clique aqui\n\n VALORES:  \nR$ 20\,00 (estudantes) \nR$ 40\,00 (profissionais) \nMembros da SPBsb e do Instituto – isentos
URL:https://febrapsi.org/evento/palestra-sandor-ferenczi-o-estilo-empatico-e-a-psicanalise-contemporanea-com-daniel-kupermann/
CATEGORIES:Geral
ATTACH;FMTTYPE=image/jpeg:https://febrapsi.org/storage/2021/06/cartaz-daniel-kupermann-V6GVtC.tmp_.jpg
END:VEVENT
END:VCALENDAR