BEGIN:VCALENDAR
VERSION:2.0
PRODID:-//FEBRAPSI - ECPv6.15.20//NONSGML v1.0//EN
CALSCALE:GREGORIAN
METHOD:PUBLISH
X-WR-CALNAME:FEBRAPSI
X-ORIGINAL-URL:https://febrapsi.org
X-WR-CALDESC:Eventos para FEBRAPSI
REFRESH-INTERVAL;VALUE=DURATION:PT1H
X-Robots-Tag:noindex
X-PUBLISHED-TTL:PT1H
BEGIN:VTIMEZONE
TZID:America/Sao_Paulo
BEGIN:STANDARD
TZOFFSETFROM:-0300
TZOFFSETTO:-0300
TZNAME:-03
DTSTART:20200101T000000
END:STANDARD
END:VTIMEZONE
BEGIN:VEVENT
DTSTART;TZID=America/Sao_Paulo:20210618T223000
DTEND;TZID=America/Sao_Paulo:20210618T223000
DTSTAMP:20260424T030610
CREATED:20211014T064352Z
LAST-MODIFIED:20211014T080856Z
UID:38677-1624055400-1624055400@febrapsi.org
SUMMARY:O Infantil em suas Múltiplas Faces
DESCRIPTION:O Infantil em suas Múltiplas Faces \nCom Bernardo Tanis (SBPSP) e Ruggero Levy (SPPA). \nCoordenadora: Leila Tannous Guimarães \nData do evento: dia 03 de julho\, \n16 horas (horário Local) \n17 horas (horário de Brasília) \nInvestimento R$ 20\,00 \nPlataforma Zoom \n  \n  \n  \n  \n  \n  \n  \n  \n 
URL:https://febrapsi.org/evento/o-infantil-em-suas-multiplas-faces/
CATEGORIES:Geral
ATTACH;FMTTYPE=image/png:https://febrapsi.org/storage/2021/10/banner-o-infantil-em-suas-multiplas-faces-41x7lw.tmp_.png
END:VEVENT
END:VCALENDAR