BEGIN:VCALENDAR
VERSION:2.0
PRODID:-//FEBRAPSI - ECPv6.15.20//NONSGML v1.0//EN
CALSCALE:GREGORIAN
METHOD:PUBLISH
X-WR-CALNAME:FEBRAPSI
X-ORIGINAL-URL:https://febrapsi.org
X-WR-CALDESC:Eventos para FEBRAPSI
REFRESH-INTERVAL;VALUE=DURATION:PT1H
X-Robots-Tag:noindex
X-PUBLISHED-TTL:PT1H
BEGIN:VTIMEZONE
TZID:America/Sao_Paulo
BEGIN:STANDARD
TZOFFSETFROM:-0200
TZOFFSETTO:-0300
TZNAME:-03
DTSTART:20190217T020000
END:STANDARD
END:VTIMEZONE
BEGIN:VEVENT
DTSTART;TZID=America/Sao_Paulo:20200418T000000
DTEND;TZID=America/Sao_Paulo:20200418T000000
DTSTAMP:20260423T223813
CREATED:20210615T035003Z
LAST-MODIFIED:20211014T080859Z
UID:8131-1587168000-1587168000@febrapsi.org
SUMMARY:NUPIA – I JORNADA CLÍNICA DE 0 A 3 ANOS
DESCRIPTION:A SPFOR através do Núcleo de Psicanálise da Infância e Adolescência (NUPIA)\, realizará no dia 18 de abril de 2020 a I Jornada da clínica de 0 a 3 anos.\n O evento ocorrerá no auditório da Torre Saúde Complexo São Mateus (Av. Santos Dumont\, 5753) das 9 às 18:30.\n Na oportunidade contaremos com a participação da psicanalista Alicia Lisondo da Sociedade Brasileira de Psicanálise de São Paulo (SBPSP) e também com a presença do Dr. Álvaro Madeiro (pediatra)\, da Dra. Sílvia Lemos (neurologista) e de Lourdes Negreiros psicanalista da Sociedade Psicanalítica de Fortaleza (SPFOR).\n Esse evento pretende promover uma discussão sobre as possibilidades de intervenções do atendimento psicanalítico nessa fase inicial da infância assim como um diálogo interdisciplinar. \n🔹Garanta sua vaga com valor especial de 1º lote!\n 🔹Apenas R$ 90\,00\n 🔹Mais informações: 85 3264.7709 / 98142.4811 \nInscrições através de depósito ou transferência para:\n Agência: 2301 | C/C: 2843-6 | Banco Sicredi (748)\n Sociedade Psicanalítica de Fortaleza – CNPJ: 05.358.763/0001-22\n A confirmação da inscrição se dará através do envio do comprovante de pagamento juntamente com o nome do participante para psicanalisefortaleza@gmail.com \n 
URL:https://febrapsi.org/evento/nupia-i-jornada-clinica-de-0-a-3-anos/
CATEGORIES:Geral
ATTACH;FMTTYPE=image/jpeg:https://febrapsi.org/storage/2021/06/i-jornada-infancia-eF3bLF.tmp_.jpg
END:VEVENT
END:VCALENDAR