BEGIN:VCALENDAR
VERSION:2.0
PRODID:-//FEBRAPSI - ECPv6.15.20//NONSGML v1.0//EN
CALSCALE:GREGORIAN
METHOD:PUBLISH
X-WR-CALNAME:FEBRAPSI
X-ORIGINAL-URL:https://febrapsi.org
X-WR-CALDESC:Eventos para FEBRAPSI
REFRESH-INTERVAL;VALUE=DURATION:PT1H
X-Robots-Tag:noindex
X-PUBLISHED-TTL:PT1H
BEGIN:VTIMEZONE
TZID:America/Sao_Paulo
BEGIN:STANDARD
TZOFFSETFROM:-0200
TZOFFSETTO:-0300
TZNAME:-03
DTSTART:20180218T020000
END:STANDARD
BEGIN:DAYLIGHT
TZOFFSETFROM:-0300
TZOFFSETTO:-0200
TZNAME:-02
DTSTART:20181104T030000
END:DAYLIGHT
BEGIN:STANDARD
TZOFFSETFROM:-0200
TZOFFSETTO:-0300
TZNAME:-03
DTSTART:20190217T020000
END:STANDARD
END:VTIMEZONE
BEGIN:VEVENT
DTSTART;TZID=America/Sao_Paulo:20190824T000000
DTEND;TZID=America/Sao_Paulo:20190824T000000
DTSTAMP:20260423T082231
CREATED:20210615T034802Z
LAST-MODIFIED:20211014T080859Z
UID:8073-1566604800-1566604800@febrapsi.org
SUMMARY:Nupia – 24|08 – Psicanálise e interlocuções no atendimento de criança e do adolescente
DESCRIPTION:A psicanalista Ina Gonzaga dará continuidade ao curso do Nupia\, intitulado: Psicanálise e interlocuções no atendimento de criança e do adolescente. A psicanalista\, com largas experiência no atendimento de crianças e adolescentes trabalhará a escuta do psicanalista no atendimento de pessoas na adolescência e relações familiares. Divulgue e participe desse importante momento. \n🔸Investimento: R$ 150\,00 (Profissional) | R$ 120\,00 (Graduando)\n 🔸Pagamento efetuado no dia do evento\n 🔸Data: 24|08 – de 9h às 12:30\n 🔸Local: Auditório Duetts Office Towers – Av. Gilberto Studart\, n 55\, andar 60.\n 🔹https://www.spfor.com.br/\n #spfor #fepal #adolescentes #nupia #psicanalise #espacopotencialfortaleza #psiquiatria #adolescencia #revistareverie #psicologia
URL:https://febrapsi.org/evento/nupia-2408-psicanalise-e-interlocucoes-no-atendimento-de-crianca-e-do-adolescente/
CATEGORIES:Geral
ATTACH;FMTTYPE=image/png:https://febrapsi.org/storage/2021/06/agosto-ina-ixe1ew.tmp_.png
END:VEVENT
END:VCALENDAR