BEGIN:VCALENDAR
VERSION:2.0
PRODID:-//FEBRAPSI - ECPv6.15.20//NONSGML v1.0//EN
CALSCALE:GREGORIAN
METHOD:PUBLISH
X-WR-CALNAME:FEBRAPSI
X-ORIGINAL-URL:https://febrapsi.org
X-WR-CALDESC:Eventos para FEBRAPSI
REFRESH-INTERVAL;VALUE=DURATION:PT1H
X-Robots-Tag:noindex
X-PUBLISHED-TTL:PT1H
BEGIN:VTIMEZONE
TZID:America/Sao_Paulo
BEGIN:STANDARD
TZOFFSETFROM:-0200
TZOFFSETTO:-0300
TZNAME:-03
DTSTART:20180218T020000
END:STANDARD
BEGIN:DAYLIGHT
TZOFFSETFROM:-0300
TZOFFSETTO:-0200
TZNAME:-02
DTSTART:20181104T030000
END:DAYLIGHT
BEGIN:STANDARD
TZOFFSETFROM:-0200
TZOFFSETTO:-0300
TZNAME:-03
DTSTART:20190217T020000
END:STANDARD
END:VTIMEZONE
BEGIN:VEVENT
DTSTART;TZID=America/Sao_Paulo:20191005T000000
DTEND;TZID=America/Sao_Paulo:20191005T000000
DTSTAMP:20260423T223035
CREATED:20210615T034832Z
LAST-MODIFIED:20211014T080859Z
UID:8086-1570233600-1570233600@febrapsi.org
SUMMARY:Movimentos na Fronteira - Psicanálise e Comunidade
DESCRIPTION:Imagem do Cartaz: \nNo Vale da Morte\, na Califórnia (EUA)\, pedras se movem sozinhas no deserto e deixam rastros sobre a areia marcando seus movimentos que\, durante muitos anos\, permaneceram inexplicáveis. Em 2014 os cientistas descobriram que as chamadas “rochas andantes” deslizam sobre a árida Racetrack Playa por uma combinação incomum e única de gelo\, vento e sol. \nProjeto gráfico: Fabio Mennucci \n  \nA partir do diálogo com diversos agentes da comunidade\, convidamos todos a pensar sobre a escuta psicanalítica ampliada e os fenômenos sociais que atravessam o sujeito e as subjetividades. \nAs múltiplas formas de violência na atualidade nos convocam a refletir sobre os temas humilhação e ressentimento\, sofrimentos psíquicos a que está exposta uma expressiva camada da população. \nEm sintonia com a proposta do biênio (2019-2020) da Diretoria Científica da SBPSP\, Fronteiras em movimento\, e coincidindo com o tema do congresso da Federação Psicanalítica da América Latina (FEPAL)\, Fronteiras\, a jornada tem como ponto central construir uma rede de reflexão sobre o fazer psicanalítico na clínica individual\, no trabalho com grupos e nos espaços institucionais. Práticas estas\, que a Diretoria de Atendimento à Comunidade vêm desenvolvendo nos últimos três anos. \nPautados em um saber psicanalítico que prefere descrever as nuances do que estabelecer definições e que se funda no movimento das relações do homem com o mundo em que vive\, o formato do encontro é de ponta a ponta baseado em diálogos com diferentes setores da comunidade\, onde a investigação se dá como exercício coletivo sobre temas presentes no cotidiano de todos nós.                                     \nComissão Organizadora\n Magda Guimarães Khouri\, coordenadora\n Heloisa Helena Sitrângulo Ditolvo\n Lula Maria Numa Abrahão\n Maria Augusta Marsiaj Gomes\n Maria Cecília Fernandes Silva\n Mônica Dias Vianna Braga de Sá\n Silvia Maia Bracco\n Silvia Martinelli Deroualle\n Susana Muszkat \n  \nPROGRAMA \n5 de outubro de 2019\, sábado \n  \n8h15 às 8h45 \nRetirada do material \n  \n8h45 às 9h15 \nDesejo de mundo\, Magda Guimarães Khouri\, SBPSP \nClínica extensa: \nNos diálogos científicos\, Heloisa Helena Sitrângulo Ditolvo\, SBPSP \nNo Centro de Atendimento\, Susana Muszkat\, SBPSP \nNas instituições\, Silvia Maia Bracco\, SBPSP \nAuditório \n  \n9h15 às 10h45 \nAÇÕES INSTITUCIONAIS \nI – Cidade Partida \nInstituto Anchieta Grajaú – IAG \nUnião de Núcleo e Associação de Moradores de Heliópolis e região – UNAS \nCenas IAG \n  \nApresentadoras: \nSonia Soicher Terepins\, SBPSP \nLara Santa Barbara Silva\, Psicóloga do IAG \nCenas UNAS: \n  \nApresentadores: \nLuiz Moreno Guimarães Reino\, Instituto Durval Marcondes da SBPSP \nRepresentante da UNAS \n  \nComentadoras: \nIsabel Khan\, Psicanalista\, PUC/SP \nSandra Lorenzon Schaffa\, SBPSP \n  \nCoordenadora: \nSilvia Maia Bracco\, SBPSP \nAuditório \n  \n11h15 às 12h30 \nOFICINAS CLÍNICAS \nI – Primeiras entrevistas\, ensaios \nApresentadores: \nDaniel Dimant\, Instituto Durval Marcondes da SBPSP \nEduardo Zaidan\, Instituto Durval Marcondes da SBPSP \n  \nComentadores: \nGizela Turkiewicz\, Instituto Durval Marcondes da SBPSP \nLaura Katz\, Asociación Psicoanalítica Argentina \nLuís Carlos Menezes\, SBPSP \nMaria Teresa Naylor Rocha\, Sociedade Brasileira de Psicanálise do Rio de Janeiro \n  \nCoordenadoras: \nMaria Luiza de Mattos Fiore\, SBPSP \nRaya Angel Zonana\, SBPSP \nAuditório \n  \nII – Costurando redes clínicas \nApresentadores: \nMaria das Graças da Silva\, Instituto Durval Marcondes da SBPSP \nPedro Colli Badino de Souza Leite\, Instituto Durval Marcondes da SBPSP \nRegina Maria Rahmi\, SBPSP \n  \nComentadores: \nMaria Teresa Silva Lopes\, Sociedade Brasileira de Psicanálise do Rio de Janeiro \nPaula Freitas Ramalho da Silva\, Instituto Durval Marcondes da SBPSP \nRegina Elisabeth Lordello Coimbra\,SBPSP \nSergio Lewkowicz\, Sociedade Psicanalítica de Porto Alegre \nCoordenadora: Susana Muszkat\, SBPSP \nSala E\, 9º andar \n  \nIII – Clínica Transcultural: Migrantes e Refugiados \nApresentadoras: \nAna Balkanyi Hoffman\, SBPSP \nMarcella Monteiro de Souza e Silva\, SBPSP \n  \nComentadores: \nAna Elisa Bersani\, Antropóloga\, Unicamp \nJobana Moya\, Humanista\, ativista pelos direitos da mulheres migrantes \nLuiz Carlos Uchôa Junqueira Filho\, SBPSP \nMaria Cecília Pereira da Silva\, SBPSP \n  \nCoordenadora: \nMaria Augusta Marsiaj Gomes\, SBPSP \nLocal Station\, Sala 1 – Térreo \n  \n12h30 às 14h – Almoço \n  \n14h00 às 15h30 \n  \nAÇÕES INSTITUCIONAIS \nI – Nos corredores das escolas \nCentro Estadual de Educação Tecnológica Paula Souza – ETEC \nFaculdade de Tecnologia do Estado de São Paulo – FATEC \nCenas FATEC \nApresentadores: \nMarina Kon Bilenky\, SBPSP \nMauro Tomazella\, Diretor da FATEC. \nCenas ETEC \nApresentadores: \nHeloisa Helena Sitrângulo Ditolvo\, SBPSP \nCarlos Renato Candini\, Diretor da ETEC de Francisco Morato \nComentadores: \nMarion Minerbo\, SBPSP \nFernando Frochtengarten\, Doutor em Psicologia Social pelo IPUSP. \nCoordenadora: Silvia Martinelli Deroualle\, SBPSP \nAuditório \n  \nII – Trabalho a céu aberto \nGCM – Guarda Civil Metropolitana \nApresentadores: \nIliana Horta Warchavchik\, SBPSP \nAna Lucia dos Santos Dores da Silva\, subinspetora da Guarda Civil Metropolitana \nRicardo Villas Boas Pereira\, subinspetor da Guarda Civil Metropolitana \nComentadores: \nRosana Onoko\, Médica\, Psicanalista\, UNICAMP. \nEduardo de São Thiago Martins\, SBPSP \nCoordenadora: \nMaria Cecília Fernandes Silva\, Instituto Durval Marcondes da SBPSP \nSala E\, 9º andar \n  \nIII – No fio da navalha: entre o público e o privado. \nDefensoria Pública do Estado de São Paulo – Regional Santos \nProjeto de Capacitação Continuada Interdisciplinar: Humanização do Atendimento à População \nCEVAT- Centro de visitação assistida do Tribunal de Justiça SP \nCenas Defensoria Pública \nApresentadoras: \nRegina Helena Coelho Levy\, Instituto Durval Marcondes da SBPSP \nMaria Hilda Martins Damasceno\, Oficial de atendimento da Defensoria Pública do Estado de São Paulo – Regional de Santos \nCenas CEVAT \nApresentadoras: \nMônica Dias Vianna Braga de Sá\, SBPSP \nFernanda Azevedo\, Doutora em Serviço Social\, Assistente Social no Tribunal de Justiça de São Paulo. \nComentadoras:  \nAlice Becker Lewkowicz\, Sociedade Psicanalítica de Porto Alegre \nCristina Parada Franch\, Instituto Durval Marcondes da SBPSP \nCoordenadora: \nLula Maria Abrahão\, Instituto Durval Marcondes da SBPSP \nSala D\, 9º andar \n  \n15h30 às 16h00 – Café \n  \n16h00 às 17h45 \n  \nFórum – Humilhação e Ressentimento \nBernardo Tanis\, SBPSP \nOswaldo Ferreira Leite Neto\, SBPSP \nDeivison Mendes Faustino\, sociólogo\, UFSCAR \nAna Cristina de Araújo Cintra\, Psicanalista\, IPUSP \n  \nCoordenadora: Magda Khouri\, SBPSP \nAuditório \n  \n17:45 às 18h \nEncerramento \nBernardo Tanis\, presidente da SBPSP \nMagda Khouri\, diretora de Atendimento à Comunidade da SBPSP \n  \n  \nTodas as comissões da DAC participaram na concepção da jornada: \nMagda Khouri\, diretora de Atendimento à Comunidade da SBPSP \nComissão do Setor de Parcerias e Convênios \nSilvia Maia Bracco\, coordenadora \nSonia Soicher Terepins\, Mônica Dias Vianna Braga de Sá\, Lula Maria Numa Abrahão\, Cláudia Amaral Mello Suannes \nComissão Setor de Seminários\, Cursos\, Jornadas e Simpósios \nHeloisa Helena Sitrângulo Ditolvo\, coordenadora \nSilvia Martinelli Deroualle\, Raul Gorayeb \nCentro de Atendimento Psicanalítico \nSusana Muszkat\, coordenadora \nIliana Horta Warchavchik \, Maria Augusta Marsiaj Gomes\, Maria Cecília Fernandes Silva\, Maria Luiza de Mattos Fiore\, Raya Angel Zonana\, Pedro Colli Badino de Souza Leite\, Regina Maria Rahmi. \n  \n  \n\nInformações e Inscrições:\nwww.sbpsp.org.br  
URL:https://febrapsi.org/evento/movimentos-na-fronteira-psicanalise-e-comunidade/
CATEGORIES:Geral
ATTACH;FMTTYPE=image/jpeg:https://febrapsi.org/storage/2021/06/cartaz-site-EMwuCT.tmp_.jpg
END:VEVENT
END:VCALENDAR