BEGIN:VCALENDAR
VERSION:2.0
PRODID:-//FEBRAPSI - ECPv6.15.20//NONSGML v1.0//EN
CALSCALE:GREGORIAN
METHOD:PUBLISH
X-WR-CALNAME:FEBRAPSI
X-ORIGINAL-URL:https://febrapsi.org
X-WR-CALDESC:Eventos para FEBRAPSI
REFRESH-INTERVAL;VALUE=DURATION:PT1H
X-Robots-Tag:noindex
X-PUBLISHED-TTL:PT1H
BEGIN:VTIMEZONE
TZID:America/Sao_Paulo
BEGIN:STANDARD
TZOFFSETFROM:-0300
TZOFFSETTO:-0300
TZNAME:-03
DTSTART:20250101T000000
END:STANDARD
END:VTIMEZONE
BEGIN:VEVENT
DTSTART;TZID=America/Sao_Paulo:20260523T100000
DTEND;TZID=America/Sao_Paulo:20260523T120000
DTSTAMP:20260424T175822
CREATED:20260424T173640Z
LAST-MODIFIED:20260424T173640Z
UID:59737-1779530400-1779537600@febrapsi.org
SUMMARY:Literatura e Psicanálise
DESCRIPTION:A SBPCamp convida para o primeiro Literatura e Psicanálise deste ano com um debate a respeito da obra Hamnet\, de Maggie O’Farrell (Intrínseca\, 2021)\, livro que deu origem ao filme de tirar o fôlego lançado recentemente nos cinemas\, “Hamnet – a Vida antes de Hamlet” (Chloé Zhao\, 2025).\nA história se desenrola sobre a vida doméstica de William Shakespeare e sua esposa\, Agnes\, atravessados pela morte de seu filho de 11 anos\, Hamnet.\nConvidamos dois psicanalistas que se envolveram com a obra de Shakespeare: Heloísa H. S. Ditolvo (SBPSP)\, que co-coordena um grupo de Estudos em Shakespeare há mais de 20 anos; e Mário Eduardo Costa Pereira (Unicamp\, LapSus)\, que se debruçou sobre a peça shakespeariana Hamlet.\nInscreva-se e venha participar! \nMais informações e inscrições: (19) 9 8458-9922 ou pelo e-mail eventos@sbpcamp.org.br
URL:https://febrapsi.org/evento/literatura-e-psicanalise/
LOCATION:Online – Plataforma Zoom
CATEGORIES:Geral
ATTACH;FMTTYPE=image/jpeg:https://febrapsi.org/storage/2026/04/WhatsApp-Image-2026-04-24-at-06.59.59.jpeg
ORGANIZER;CN="SBPCamp":MAILTO:eventos@sbpcamp.org.br
END:VEVENT
END:VCALENDAR