BEGIN:VCALENDAR
VERSION:2.0
PRODID:-//FEBRAPSI - ECPv6.15.20//NONSGML v1.0//EN
CALSCALE:GREGORIAN
METHOD:PUBLISH
X-WR-CALNAME:FEBRAPSI
X-ORIGINAL-URL:https://febrapsi.org
X-WR-CALDESC:Eventos para FEBRAPSI
REFRESH-INTERVAL;VALUE=DURATION:PT1H
X-Robots-Tag:noindex
X-PUBLISHED-TTL:PT1H
BEGIN:VTIMEZONE
TZID:America/Sao_Paulo
BEGIN:STANDARD
TZOFFSETFROM:-0200
TZOFFSETTO:-0300
TZNAME:-03
DTSTART:20180218T020000
END:STANDARD
BEGIN:DAYLIGHT
TZOFFSETFROM:-0300
TZOFFSETTO:-0200
TZNAME:-02
DTSTART:20181104T030000
END:DAYLIGHT
BEGIN:STANDARD
TZOFFSETFROM:-0200
TZOFFSETTO:-0300
TZNAME:-03
DTSTART:20190217T020000
END:STANDARD
END:VTIMEZONE
BEGIN:VEVENT
DTSTART;TZID=America/Sao_Paulo:20190510T000000
DTEND;TZID=America/Sao_Paulo:20190510T000000
DTSTAMP:20260422T081150
CREATED:20210615T034731Z
LAST-MODIFIED:20211014T080900Z
UID:8056-1557446400-1557446400@febrapsi.org
SUMMARY:Lançamento da Jornada da Brasileira 2019 - dia 10 de maio de 2019 | 18 horas
DESCRIPTION:É com grande satisfação que convidamos a todos para o evento de lançamento da nossa Jornada de 2019\, “CAMINHOS DA DOR”. \n Esta jornada foi pensada com o objetivo de podermos ter um debate plural sobre as trilhas do psiquismo\, que se iniciam nos primeiros registros e nos acompanham ao longo da vida\, eventualmente expressas no corpo\, via tomada pela psicossomática contemporânea . \n Para uma grande troca de ideias e reflexões\, convidamos psicanalistas expoentes sobre o tema: Marilia Aisenstein (França)\, David Maldavisky (Argentina) e Admar Horn (Brasil- RJ). \n Para iniciarmos os debates da Jornada\, contaremos com os colegas Ana Paula Terra Machado e Gley Pacheco Costa\, que irão introduzir as ideias dos nossos convidados especiais. \n Esperamos vocês \, para pensarmos juntos sobre este tema que suscita tantos questionamentos\, no dia 10/05 \, sexta-feira \, às 18:00h\, no auditório da SBPde PA. \n Até lá!\n Convidados: Ana Paula Terra Machado (Presidente) e Local: Praça Maurício Cardoso\, 07 – Moinhos de Vento – Porto Alegre\n Inscrições: http://sbpdepa.org.br/lancamento-da-jornada-da-brasileira-2019-10-05/
URL:https://febrapsi.org/evento/lancamento-da-jornada-da-brasileira-2019-dia-10-de-maio-de-2019-18-horas/
CATEGORIES:Geral
END:VEVENT
END:VCALENDAR