BEGIN:VCALENDAR
VERSION:2.0
PRODID:-//FEBRAPSI - ECPv6.15.20//NONSGML v1.0//EN
CALSCALE:GREGORIAN
METHOD:PUBLISH
X-WR-CALNAME:FEBRAPSI
X-ORIGINAL-URL:https://febrapsi.org
X-WR-CALDESC:Eventos para FEBRAPSI
REFRESH-INTERVAL;VALUE=DURATION:PT1H
X-Robots-Tag:noindex
X-PUBLISHED-TTL:PT1H
BEGIN:VTIMEZONE
TZID:America/Sao_Paulo
BEGIN:STANDARD
TZOFFSETFROM:-0300
TZOFFSETTO:-0300
TZNAME:-03
DTSTART:20200101T000000
END:STANDARD
END:VTIMEZONE
BEGIN:VEVENT
DTSTART;TZID=America/Sao_Paulo:20210409T214900
DTEND;TZID=America/Sao_Paulo:20210409T214900
DTSTAMP:20260425T131731
CREATED:20211014T064036Z
LAST-MODIFIED:20211014T080857Z
UID:38635-1618004940-1618004940@febrapsi.org
SUMMARY:JORNADA INTERNACIONAL - UM OLHAR CLÍNICO PARA INFÂNCIA
DESCRIPTION:JORNADA INTERNACIONAL – UM OLHAR CLÍNICO PARA INFÂNCIA
URL:https://febrapsi.org/evento/jornada-internacional-um-olhar-clinico-para-infancia/
CATEGORIES:Geral
ATTACH;FMTTYPE=image/jpeg:https://febrapsi.org/storage/2021/10/whatsapp-image-2021-04-05-at-14-55-02-1-cNgZmm.tmp_.jpg
ORGANIZER;CN="SPRJ":MAILTO:sprj.rio1@sprj.org.br
END:VEVENT
END:VCALENDAR