BEGIN:VCALENDAR
VERSION:2.0
PRODID:-//FEBRAPSI - ECPv6.15.20//NONSGML v1.0//EN
CALSCALE:GREGORIAN
METHOD:PUBLISH
X-WR-CALNAME:FEBRAPSI
X-ORIGINAL-URL:https://febrapsi.org
X-WR-CALDESC:Eventos para FEBRAPSI
REFRESH-INTERVAL;VALUE=DURATION:PT1H
X-Robots-Tag:noindex
X-PUBLISHED-TTL:PT1H
BEGIN:VTIMEZONE
TZID:America/Sao_Paulo
BEGIN:STANDARD
TZOFFSETFROM:-0200
TZOFFSETTO:-0300
TZNAME:-03
DTSTART:20190217T020000
END:STANDARD
END:VTIMEZONE
BEGIN:VEVENT
DTSTART;TZID=America/Sao_Paulo:20201128T000000
DTEND;TZID=America/Sao_Paulo:20201128T000000
DTSTAMP:20260423T002536
CREATED:20210615T035147Z
LAST-MODIFIED:20211014T080858Z
UID:8181-1606521600-1606521600@febrapsi.org
SUMMARY:Jornada do Envelhecimento na contemporaneidade
DESCRIPTION:Jornada do Envelhecimento na contemporaneidade
URL:https://febrapsi.org/evento/jornada-do-envelhecimento-na-contemporaneidade/
CATEGORIES:Geral
ATTACH;FMTTYPE=image/jpeg:https://febrapsi.org/storage/2021/06/whatsapp-image-2020-10-21-at-13-28-37-VGIVod.tmp_.jpg
END:VEVENT
END:VCALENDAR