BEGIN:VCALENDAR
VERSION:2.0
PRODID:-//FEBRAPSI - ECPv6.15.20//NONSGML v1.0//EN
CALSCALE:GREGORIAN
METHOD:PUBLISH
X-WR-CALNAME:FEBRAPSI
X-ORIGINAL-URL:https://febrapsi.org
X-WR-CALDESC:Eventos para FEBRAPSI
REFRESH-INTERVAL;VALUE=DURATION:PT1H
X-Robots-Tag:noindex
X-PUBLISHED-TTL:PT1H
BEGIN:VTIMEZONE
TZID:America/Sao_Paulo
BEGIN:STANDARD
TZOFFSETFROM:-0300
TZOFFSETTO:-0300
TZNAME:-03
DTSTART:20200101T000000
END:STANDARD
END:VTIMEZONE
BEGIN:VEVENT
DTSTART;TZID=America/Sao_Paulo:20210803T133900
DTEND;TZID=America/Sao_Paulo:20210803T133900
DTSTAMP:20260424T030431
CREATED:20211014T064423Z
LAST-MODIFIED:20211014T080856Z
UID:38688-1627997940-1627997940@febrapsi.org
SUMMARY:JORNADA DE PSICOSSOMÁTICA PSICANALÍTICA DA ESCOLA DE PARIS - DA EXCITAÇÃO À PULSÃO
DESCRIPTION:CONVIDADOS ESTRANGEIROS:CLAUDE SMADJA SPP – IPSO-PARIS\nDIANA TABACOF – SPP – IPSO-PARIS\nANNE MAUPAS – SPP – IPSO-PARIS \nINSCRIÇÕES: \nwww.sbpsp.org.br \nINFORMAÇÕES: \nadele.lacotis@sbpsp.org.br \nVALORES:\nR$ 80\,00 \nMEMBROS FILIADOS DA SBPSP\, CANDIDATOS FEBRAPSI\, IPA\, \nFEPAL\, ESTUDANTES DE GRADUAÇÃO\, ALUNOS DOS CURSOS \nDA DAC; PROFISSIONAIS DA REDE PÚBLICA \nR$180\,00 \nMEMBROS DA SBPSP\, FEBRAPSI\, IPA\, FEPAL \nR$ 250\,00 PÚBLICO EXTERNO
URL:https://febrapsi.org/evento/jornada-de-psicossomatica-psicanalitica-da-escola-de-paris-da-excitacao-a-pulsao/
CATEGORIES:Geral
ATTACH;FMTTYPE=image/png:https://febrapsi.org/storage/2021/10/jornada-de-psicossomatica-ppLGFZ.tmp_.png
END:VEVENT
END:VCALENDAR