BEGIN:VCALENDAR
VERSION:2.0
PRODID:-//FEBRAPSI - ECPv6.15.20//NONSGML v1.0//EN
CALSCALE:GREGORIAN
METHOD:PUBLISH
X-WR-CALNAME:FEBRAPSI
X-ORIGINAL-URL:https://febrapsi.org
X-WR-CALDESC:Eventos para FEBRAPSI
REFRESH-INTERVAL;VALUE=DURATION:PT1H
X-Robots-Tag:noindex
X-PUBLISHED-TTL:PT1H
BEGIN:VTIMEZONE
TZID:America/Sao_Paulo
BEGIN:STANDARD
TZOFFSETFROM:-0300
TZOFFSETTO:-0300
TZNAME:-03
DTSTART:20200101T000000
END:STANDARD
END:VTIMEZONE
BEGIN:VEVENT
DTSTART;VALUE=DATE:20211105
DTEND;VALUE=DATE:20211107
DTSTAMP:20260423T204901
CREATED:20211014T064624Z
LAST-MODIFIED:20211014T080855Z
UID:38714-1636070400-1636243199@febrapsi.org
SUMMARY:JORNADA DE  PSICOSSOMÁTICA  PSICANALÍTICA  DA ESCOLA DE PARIS - DA EXCITAÇÃO À PULSÃO
DESCRIPTION:JORNADA DE PSICOSSOMÁTICA PSICANALÍTICA DA ESCOLA DE PARIS\nDa excitação à pulsão\n \nO caminho de transformação do corpo biológico em um corpo erótico\, depende essencialmente de um casamento sintônico do universo pulsional dos objetos cuidadores com o campo das excitações de origem somática do Ser cuidado. Lacunas nesses processos de transformação somatopsíquica\, deixam falhas no tecido psíquico e na constituição do corpo erótico\, dando às excitações somáticas livre curso e abrindo brechas à somatização. O equilíbrio psicossomático\, dos primórdios e ao longo de toda vida\, dependerá das possibilidades de cada um em assegurar esses processos transformacionais somatopsíquicos.\n \nFreud apreendeu no corpo erótico a fala recalcada da histérica: assim nasceu a psicanálise. A psicossomática apreende no corpo somático sintomas que enviam à uma história traumática que tem por efeito a negativização das cadeias associativas psíquicas daquele que somatiza: assim nasceu a Escola de Paris de Psicossomática Psicanalítica.\n \nA metapsicologia psicanalítica é assim chamada a trabalhar nas trincheiras das experiências traumáticas. O ponto de vista econômico e o da segunda teoria pulsional de Freud\, alicerces do corpo teórico-clinico da psicossomática\, mobilizam o conceito de excitação no seu caminho de pulsionalisação\, na apreciação de suas rupturas e de seus efeitos mortíferos. Daí o título desta jornada.\n \nNosso propósito será de ressaltar através de casos clínicos a organização psíquica inerente ao desencadeamento do sofrimento plasmado no corpo\, que se manifestam através de regressões somáticas como alergias\, polimialgias\, enxaquecas\, etc… ou desorganizações somáticas graves\, como câncer e doenças autoimunes\, que põem a prova o homem face a sua dor e o analista\, face ao seu método.\n \nÉ no consistente estudo de conceitos como vida operatória\, depressão essencial\, procedimentos autocalmantes\, masoquismo guardião de vida e na vivacidade da clínica da criança e do adulto\, que construímos nossa jornada. Com o propósito de sensibilizar o público ao corpo teórico-clínico da psicossomática e aos remanejamentos necessários do enquadre psicanalítico no tratamento dos pacientes portadores de transtornos somáticos. De forma mais ampla\, os conceitos da Escola de Paris de psicossomática representam operadores de inteligibilidade da clínica contemporânea e dos limites do analisável\, aportando uma contribuição à comunidade psicanalítica em geral.\n \nPROGRAMA:\n\nDia 05/11 – Sexta-feira             \nAbertura: 16h00 \nCarmen C. Mion – Presidente da SBPSP.\nDarcy Antônio Portolese – Diretor do Depto de Atendimento à Comunidade SBPSP – DAC\nWalkiria Nunez Paulo dos Santos – Coordenadora da DAC \nDiana Tabacof – SPP\, IPSO-Paris\nCândida Sé Holovko – SBPSP\, IPSO-Paris  \nCoordenadora: Eliana Rache\, SBPSP\, IPSO-Paris \n \n16h30 – Conferência de abertura\n \nClaude Smadja – Membro Didata da Sociedade Psicanalítica de Paris (SPP) e do Instituto de Psicossomática Pierre Marty ( IPSO –Paris)\nA pulsão\, um elo que falta na evolução psicossomática \n \nDia 06/11 – Sábado                                                                                                                     \n09h00 a 10h30 :  Psicossomática da criança ao adulto\, rigor e paixão: legado de Gérard Szwec\nCândida Sé Holovko – SBPSP\, IPSO-Paris. Clínica do extremo: Procedimentos autocalmantes. \nAnne Maupas – SPP\, IPSO-Paris. Como nascem as fantasias? Um caso de eczema infantil.\nCoordenadora: Eliane Andrade – SBPMG \n \n10h30/11h00: intervalo\n     \n11h00/12h30:  Psicossomática: Outras Escutas \nRubens Volich – Sedes Sapientiae .Uma pedra no meio do caminho. Interpretação e ato na clínica das desorganizações psicossomáticas \nGley Silva de Pacheco Costa – SBPdePA. Ouvir o silêncio \nCoordenadora: Maria Luiza de Assis Moura Ghirardi – Sedes Sapientiae\, SBPSP \n \n12h30/14h00: intervalo \n \n14h00/15h30: Do sensório-perceptivo ao psíquico\nEliana Rache – SBPSP\, IPSO-Paris. Uma enigmática solução: somatose ou psicose?\nMargaret Waddington Binder – SBRJ\,IPSO-Paris. Cheiros\, memórias\, elaborações\nCoordenadora: Josefa Maria Dias da Silva Fernandes – SBPSP \n \n15h30/16h00: Intervalo  \n \n16h00/17h30: Clínica da excitação: somatização e destinos da pulsão. \nDiana Tabacof – Membro da Sociedade Psicanalítica de Paris (SPP) e didata  do Instituto de Psicossomática Pierre Marty (IPSO-Paris) \nCoordenadora: Cândida Sé Holovko\, SBPSP\,  IPSO-Paris. \n \nEncerramento: 17h30 \nCândida Sé Holovko/Eliana Rache – SBPSP\, IPSO-Paris 
URL:https://febrapsi.org/evento/jornada-de-psicossomatica-psicanalitica-da-escola-de-paris-da-excitacao-a-pulsao-2/
CATEGORIES:Geral
ATTACH;FMTTYPE=image/jpeg:https://febrapsi.org/storage/2021/10/JORNADA-DE-PSICOSSOMÁTICA-PSICANALÍTICA-DA-ESCOLA-DE-PARIS.jpg
ORGANIZER;CN="SBPSP":MAILTO:contato@sbpsp.org.br
END:VEVENT
END:VCALENDAR