BEGIN:VCALENDAR
VERSION:2.0
PRODID:-//FEBRAPSI - ECPv6.15.20//NONSGML v1.0//EN
CALSCALE:GREGORIAN
METHOD:PUBLISH
X-WR-CALNAME:FEBRAPSI
X-ORIGINAL-URL:https://febrapsi.org
X-WR-CALDESC:Eventos para FEBRAPSI
REFRESH-INTERVAL;VALUE=DURATION:PT1H
X-Robots-Tag:noindex
X-PUBLISHED-TTL:PT1H
BEGIN:VTIMEZONE
TZID:America/Sao_Paulo
BEGIN:STANDARD
TZOFFSETFROM:-0200
TZOFFSETTO:-0300
TZNAME:-03
DTSTART:20180218T020000
END:STANDARD
BEGIN:DAYLIGHT
TZOFFSETFROM:-0300
TZOFFSETTO:-0200
TZNAME:-02
DTSTART:20181104T030000
END:DAYLIGHT
BEGIN:STANDARD
TZOFFSETFROM:-0200
TZOFFSETTO:-0300
TZNAME:-03
DTSTART:20190217T020000
END:STANDARD
END:VTIMEZONE
BEGIN:VEVENT
DTSTART;TZID=America/Sao_Paulo:20191005T000000
DTEND;TZID=America/Sao_Paulo:20191005T000000
DTSTAMP:20260424T102617
CREATED:20210615T034903Z
LAST-MODIFIED:20211014T080859Z
UID:8103-1570233600-1570233600@febrapsi.org
SUMMARY:Intervenções do Analista - Encontro Virtual APA-SPPel-APG
DESCRIPTION:Intervenções do Analista – Encontro Virtual APA-SPPel-APG \nArgentina-Brasil-México \n05 de outubro 9:00 am MX   11:00 am AR/BR \nApresentações de Trabalhos \n\nIntercâmbio\nDiálogo
URL:https://febrapsi.org/evento/intervencoes-do-analista-encontro-virtual-apa-sppel-apg/
CATEGORIES:Geral
ATTACH;FMTTYPE=image/jpeg:https://febrapsi.org/storage/2021/06/cartaz-sppel-05-10-WRLwJs.tmp_.jpg
END:VEVENT
END:VCALENDAR