BEGIN:VCALENDAR
VERSION:2.0
PRODID:-//FEBRAPSI - ECPv6.15.20//NONSGML v1.0//EN
CALSCALE:GREGORIAN
METHOD:PUBLISH
X-WR-CALNAME:FEBRAPSI
X-ORIGINAL-URL:https://febrapsi.org
X-WR-CALDESC:Eventos para FEBRAPSI
REFRESH-INTERVAL;VALUE=DURATION:PT1H
X-Robots-Tag:noindex
X-PUBLISHED-TTL:PT1H
BEGIN:VTIMEZONE
TZID:America/Sao_Paulo
BEGIN:STANDARD
TZOFFSETFROM:-0300
TZOFFSETTO:-0300
TZNAME:-03
DTSTART:19690101T000000
END:STANDARD
END:VTIMEZONE
BEGIN:VEVENT
DTSTART;TZID=America/Sao_Paulo:20260424T044653
DTEND;TZID=America/Sao_Paulo:20260424T044653
DTSTAMP:20260424T044653
CREATED:20210615T034918Z
LAST-MODIFIED:20211014T080902Z
UID:8106-0-0@febrapsi.org
SUMMARY:Intercâmbio Científico FEBRAPSI com o Psicanalista Ronaldo Victer
DESCRIPTION:Intercâmbio Científico FEBRAPSI – Intersubjetividade nos Dias Atuais\, com o Psicanalista Ronaldo Victer – SPRJ \n25.10.2019 – Sexta feira: \n 20h.- Palestra pública sobre o tema Formas de Intersubjetividade Infantil e no Tratamento de Adultos: Uma visão de Sistemas. \n 26.10.2019 – Sábado: \n 9h.- Teoria de Sistemas Intersubjetivos.  \n 10\,45h. –Transferência. A organização da Experiência. \n  \n  \n 
URL:https://febrapsi.org/evento/intercambio-cientifico-febrapsi-com-o-psicanalista-ronaldo-victer/
CATEGORIES:Geral
END:VEVENT
END:VCALENDAR