BEGIN:VCALENDAR
VERSION:2.0
PRODID:-//FEBRAPSI - ECPv6.15.20//NONSGML v1.0//EN
CALSCALE:GREGORIAN
METHOD:PUBLISH
X-WR-CALNAME:FEBRAPSI
X-ORIGINAL-URL:https://febrapsi.org
X-WR-CALDESC:Eventos para FEBRAPSI
REFRESH-INTERVAL;VALUE=DURATION:PT1H
X-Robots-Tag:noindex
X-PUBLISHED-TTL:PT1H
BEGIN:VTIMEZONE
TZID:America/Sao_Paulo
BEGIN:STANDARD
TZOFFSETFROM:-0300
TZOFFSETTO:-0300
TZNAME:-03
DTSTART:19690101T000000
END:STANDARD
END:VTIMEZONE
BEGIN:VEVENT
DTSTART;TZID=America/Sao_Paulo:20260424T003056
DTEND;TZID=America/Sao_Paulo:20260424T003056
DTSTAMP:20260424T003056
CREATED:20210615T034948Z
LAST-MODIFIED:20211014T080902Z
UID:8121-0-0@febrapsi.org
SUMMARY:III Jornada do Núcleo de Vínculos: “O Inapreensível do Outro na Psicanálise Vincular” - SBPdePA
DESCRIPTION:A SBPDEPA \, através do Núcleo de Vínculos programa para 2020 a sua III Jornada : “O Inapreensível do Outro na Psicanálise Vincular” dias 21 e 22 de agosto.\n Em breve divulgaremos a programação e inscrições. \n  \nInformações através do fone: 51 3333.6857 | comuniacao@sbpdepa.org.br
URL:https://febrapsi.org/evento/iii-jornada-do-nucleo-de-vinculos-o-inapreensivel-do-outro-na-psicanalise-vincular-sbpdepa/
CATEGORIES:Geral
END:VEVENT
END:VCALENDAR