BEGIN:VCALENDAR
VERSION:2.0
PRODID:-//FEBRAPSI - ECPv6.15.20//NONSGML v1.0//EN
CALSCALE:GREGORIAN
METHOD:PUBLISH
X-WR-CALNAME:FEBRAPSI
X-ORIGINAL-URL:https://febrapsi.org
X-WR-CALDESC:Eventos para FEBRAPSI
REFRESH-INTERVAL;VALUE=DURATION:PT1H
X-Robots-Tag:noindex
X-PUBLISHED-TTL:PT1H
BEGIN:VTIMEZONE
TZID:America/Sao_Paulo
BEGIN:STANDARD
TZOFFSETFROM:-0200
TZOFFSETTO:-0300
TZNAME:-03
DTSTART:20190217T020000
END:STANDARD
END:VTIMEZONE
BEGIN:VEVENT
DTSTART;TZID=America/Sao_Paulo:20200503T000000
DTEND;TZID=America/Sao_Paulo:20200503T000000
DTSTAMP:20260423T183845
CREATED:20210615T035003Z
LAST-MODIFIED:20211014T080859Z
UID:8129-1588464000-1588464000@febrapsi.org
SUMMARY:II Simpósio Bienal da SBPSP - ENVIO DE TRABALHOS LIVRES!
DESCRIPTION:Normas para Trabalhos Livres:  \nOs trabalhos livres devem ter até 4 páginas em Times New Roman\, corpo 12\, entrelinha 1.5\, seguir as normas de publicação da APA e devem estar inseridos em um dos dois eixos do Simpósio: “A clínica em movimento” e “Psicanálise: diálogo nas fronteiras”. Ao encaminhar o trabalho o autor (ou grupo de autores no caso de coautoria) deverá explicitar em qual dos eixos seu trabalho deverá ser incluído. \nOs trabalhos deverão ser enviados até as 23:59 minutos do dia 3 de maio de 2020\, em arquivo eletrônico Word  para fabiana.santos@sbpsp.org.br\, com a primeira folha de rosto destacando o endereçamento para a Comissão de Avaliação do II Simpósio Bienal da SBPSP e o eixo no qual o trabalho deve ser incluído. \nSeguem os critérios para a formatação dos trabalhos: \n1. Folha de rosto identificada\, contendo:  \n• Título do trabalho. \n• Nome completo e afiliação institucional de cada um dos autores. \n• Nota de rodapé com endereço completo para correspondência\, incluindo CEP\, telefone e endereço eletrônico de cada um dos autores. \n• Nota de rodapé com informações sobre apoio institucional\, agradecimentos\, origem do trabalho (apresentação em evento\, derivado de dissertação ou tese) e outros dados que atendam a exigências éticas\, no máximo em duas linhas. \n2. Folha de rosto sem identificação\, contendo apenas: \n• Título do trabalho. \n•Resumo de no máximo 100 palavras \nDevem constar da bibliografia apenas as obras citadas no trabalho e sua disposição deve ser em ordem alfabética do último sobrenome do autor e constituir uma lista encabeçada pelo título Referências. No caso de mais de uma obra de um mesmo autor\, as referências deverão ser dispostas em ordem cronológica/alfabética de publicação. \nA bibliografia e o resumo não serão contados como parte das 4 páginas máximas. \nO conteúdo do trabalho é de total responsabilidade de seus autores. Solicitamos atenção às questões de ética e sigilo. \nOs trabalhos que não atenderem as orientações acima descritas não serão avaliados.  \nA Comissão Avaliadora reserva-se o direito de recusar trabalhos sem oferecer justificativa.
URL:https://febrapsi.org/evento/ii-simposio-bienal-da-sbpsp-envio-de-trabalhos-livres/
CATEGORIES:Geral
ATTACH;FMTTYPE=image/png:https://febrapsi.org/storage/2021/06/destaque-site-febrapsi-1-t3qKzg.tmp_.png
END:VEVENT
END:VCALENDAR