BEGIN:VCALENDAR
VERSION:2.0
PRODID:-//FEBRAPSI - ECPv6.15.20//NONSGML v1.0//EN
CALSCALE:GREGORIAN
METHOD:PUBLISH
X-WR-CALNAME:FEBRAPSI
X-ORIGINAL-URL:https://febrapsi.org
X-WR-CALDESC:Eventos para FEBRAPSI
REFRESH-INTERVAL;VALUE=DURATION:PT1H
X-Robots-Tag:noindex
X-PUBLISHED-TTL:PT1H
BEGIN:VTIMEZONE
TZID:America/Sao_Paulo
BEGIN:STANDARD
TZOFFSETFROM:-0300
TZOFFSETTO:-0300
TZNAME:-03
DTSTART:19690101T000000
END:STANDARD
END:VTIMEZONE
BEGIN:VEVENT
DTSTART;TZID=America/Sao_Paulo:20260422T061916
DTEND;TZID=America/Sao_Paulo:20260422T061916
DTSTAMP:20260422T061916
CREATED:20210615T025051Z
LAST-MODIFIED:20211014T080903Z
UID:7916-0-0@febrapsi.org
SUMMARY:II Jornada de Psicanálise da SPFOR – Agosto 2017
DESCRIPTION:É com grande satisfação que informamos a realização da II Jornada de Psicanálise da SPFOR – Sociedade Psicanalítica de Fortaleza\, que terá como tema Morte e vida: rupturas e ligações nos vínculos afetivos e será realizada nos dias 18 e 19 de agosto de 2017 em Fortaleza\, no Ponta Mar Hotel – Av. Beira Mar 2200. \nBaixe o formulário de inscrição salve\, preencha e envie por fax para 85 32647709 ou por email psicanalisefortaleza@gmail.com \nFORMULARIO_DE_INSCRIÇÃO_II_JORNADA_SPFOR_2017 \nMaiores Informações \n  \n+5585 3264 7709 | +5585 98793 8067 \npsicanalisefortaleza@gmail.com |  http://www.gepfor.org.br \nhttps://www.facebook.com/sociedadepsicanaliticadefortaleza/\n                                               
URL:https://febrapsi.org/evento/ii-jornada-de-psicanalise-da-spfor-agosto-2017/
CATEGORIES:Geral
ATTACH;FMTTYPE=image/png:https://febrapsi.org/storage/2021/06/cartaz-com-programa-com-informacoes-g9FMcU.tmp_.png
END:VEVENT
END:VCALENDAR