BEGIN:VCALENDAR
VERSION:2.0
PRODID:-//FEBRAPSI - ECPv6.15.20//NONSGML v1.0//EN
CALSCALE:GREGORIAN
METHOD:PUBLISH
X-WR-CALNAME:FEBRAPSI
X-ORIGINAL-URL:https://febrapsi.org
X-WR-CALDESC:Eventos para FEBRAPSI
REFRESH-INTERVAL;VALUE=DURATION:PT1H
X-Robots-Tag:noindex
X-PUBLISHED-TTL:PT1H
BEGIN:VTIMEZONE
TZID:America/Sao_Paulo
BEGIN:STANDARD
TZOFFSETFROM:-0300
TZOFFSETTO:-0300
TZNAME:-03
DTSTART:20250101T000000
END:STANDARD
END:VTIMEZONE
BEGIN:VEVENT
DTSTART;TZID=America/Sao_Paulo:20260530T120000
DTEND;TZID=America/Sao_Paulo:20260530T170000
DTSTAMP:20260423T210024
CREATED:20260423T203032Z
LAST-MODIFIED:20260423T203032Z
UID:59593-1780142400-1780160400@febrapsi.org
SUMMARY:IDENTIDADE\, GÊNERO E RAÇA NA CONTEMPORANEIDADE
DESCRIPTION:Evento aberto à comunidade em comemoração aos 20 anos do NEPL\nIDENTIDADE\, GÊNERO E RAÇA NA CONTEMPORANEIDADE:\nTUMULTO OU NECESSIDADE DE TRANSFORMAÇÃO?\n\n30 de maio de 2026\ndas 8h30 às 12h\nEVENTO PRESENCIAL | GRATUITO\nEntrada: Doação de livro infantil (de qualidade)\n\nPROGRAMAÇÃO: \n08h30: Confirmação das inscrições – Apresentação cultural: Walter Armstrong – Músico \n\n09h: Abertura\nIvana Márcia Cavicchioli de Marino – NEPL e Rosemary de Fátima Bulgarão – Diretora Regional SBPSP\n\n09h30: O corpo fala: vamos escutá-lo?  – Ignácio Paim Filho – Psicanalista da SBPdePA\nCoordenação: Elaine I. Sacocchi Cardin – NEPL/SBPSP\n\n10h30: As múltiplas facetas das identificações na constituição da identidade de gênero:\nentre o simbólico\, o social e o cultural – Jurenice Picado Alvares – Psicanalista da SBPSP\nCoordenação: Ivana Márcia Cavicchioli de Marino – NEPL/SBPSP\n\nLocal:  Salão nobre do UniSalesiano de Lins\, Av. 9 de julho\, S/N – Lins\n\nPúblico-Alvo:  Professores e profissionais da educação\, pais\, psicanalistas\, médicos\, psicólogos\, terapeutas ocupacionais\, fisioterapeutas\, fonoaudiólogos e assistentes sociais\nRealização: NEPL – Núcleo de Estudos Psicanalíticos de Lins\nComissão Organizadora:  Amanda Paiva\,Carla Marcelino\, Daniela Caceres\, Elaine Cardin\, Karen Paiva\,\nIvana Marino\, Mariana Galenti\, Rachel Goulart\nCERTIFICADO SERÁ ENVIADO ON-LINE
URL:https://febrapsi.org/evento/identidade-genero-e-raca-na-contemporaneidade/
LOCATION:Sede SBPSP\, Av. Dr. Cardoso de Melo\, 1450\, 9ª andar\, São Paulo\, São Paulo\, 04548005\, Brasil
CATEGORIES:Geral
ATTACH;FMTTYPE=image/png:https://febrapsi.org/storage/2026/04/Cartaz_DR_LINS-1.png
ORGANIZER;CN="SBPSP":MAILTO:contato@sbpsp.org.br
END:VEVENT
END:VCALENDAR