BEGIN:VCALENDAR
VERSION:2.0
PRODID:-//FEBRAPSI - ECPv6.15.20//NONSGML v1.0//EN
CALSCALE:GREGORIAN
METHOD:PUBLISH
X-WR-CALNAME:FEBRAPSI
X-ORIGINAL-URL:https://febrapsi.org
X-WR-CALDESC:Eventos para FEBRAPSI
REFRESH-INTERVAL;VALUE=DURATION:PT1H
X-Robots-Tag:noindex
X-PUBLISHED-TTL:PT1H
BEGIN:VTIMEZONE
TZID:America/Sao_Paulo
BEGIN:STANDARD
TZOFFSETFROM:-0200
TZOFFSETTO:-0300
TZNAME:-03
DTSTART:20180218T020000
END:STANDARD
BEGIN:DAYLIGHT
TZOFFSETFROM:-0300
TZOFFSETTO:-0200
TZNAME:-02
DTSTART:20181104T030000
END:DAYLIGHT
BEGIN:STANDARD
TZOFFSETFROM:-0200
TZOFFSETTO:-0300
TZNAME:-03
DTSTART:20190217T020000
END:STANDARD
END:VTIMEZONE
BEGIN:VEVENT
DTSTART;TZID=America/Sao_Paulo:20190830T000000
DTEND;TZID=America/Sao_Paulo:20190830T000000
DTSTAMP:20260423T094242
CREATED:20210615T034817Z
LAST-MODIFIED:20211014T080859Z
UID:8074-1567123200-1567123200@febrapsi.org
SUMMARY:Grupos de Estudos / 2º semestre de 2019 SBPdePA
DESCRIPTION:A Comissão de Relações com a Comunidade abre as inscrições para GRUPOS DE ESTUDOS E SEMINÁRIO CLÍNICO neste segundo semestre de 2019. As inscrições podem ser feitas através do e-mail: secretaria@sbpdepa.org.br ou pelo fone: (51) 3333.6857 | Local: Praça Maurício Cardoso\, 07 – Moinhos de Vento
URL:https://febrapsi.org/evento/grupos-de-estudos-2o-semestre-de-2019-sbpdepa/
CATEGORIES:Geral
END:VEVENT
END:VCALENDAR