BEGIN:VCALENDAR
VERSION:2.0
PRODID:-//FEBRAPSI - ECPv6.15.20//NONSGML v1.0//EN
CALSCALE:GREGORIAN
METHOD:PUBLISH
X-WR-CALNAME:FEBRAPSI
X-ORIGINAL-URL:https://febrapsi.org
X-WR-CALDESC:Eventos para FEBRAPSI
REFRESH-INTERVAL;VALUE=DURATION:PT1H
X-Robots-Tag:noindex
X-PUBLISHED-TTL:PT1H
BEGIN:VTIMEZONE
TZID:America/Sao_Paulo
BEGIN:STANDARD
TZOFFSETFROM:-0300
TZOFFSETTO:-0300
TZNAME:-03
DTSTART:20250101T000000
END:STANDARD
END:VTIMEZONE
BEGIN:VEVENT
DTSTART;TZID=America/Sao_Paulo:20260216T080000
DTEND;TZID=America/Sao_Paulo:20260216T170000
DTSTAMP:20260422T061829
CREATED:20260219T180151Z
LAST-MODIFIED:20260219T180151Z
UID:58645-1771228800-1771261200@febrapsi.org
SUMMARY:Grupo de estudos da obra de Melanie Klein
DESCRIPTION:O Grupo de Estudos de Psicanálise de Rio Preto convida você para um mergulho profundo na obra de Melanie Klein!\nVamos explorar os conceitos fundamentais dessa renomada psicanalista\, discutir suas contribuições para a teoria e técnica psicanalítica e refletir sobre suas aplicações na clínica e na vida cotidiana. \nDatas: Quinzenal\, às quartas-feiras\nHorário: Das 20h às 21h30\nInício: 04 de março de 2026\nValor: R$ 180\,00 \nInscrições: WhatsApp (17) 99794-6042
URL:https://febrapsi.org/evento/grupo-de-estudos-da-obra-de-melanie-klein/
CATEGORIES:Geral
ATTACH;FMTTYPE=image/jpeg:https://febrapsi.org/storage/2026/02/Nova-Melanie.jpeg
END:VEVENT
END:VCALENDAR