BEGIN:VCALENDAR
VERSION:2.0
PRODID:-//FEBRAPSI - ECPv6.15.20//NONSGML v1.0//EN
CALSCALE:GREGORIAN
METHOD:PUBLISH
X-WR-CALNAME:FEBRAPSI
X-ORIGINAL-URL:https://febrapsi.org
X-WR-CALDESC:Eventos para FEBRAPSI
REFRESH-INTERVAL;VALUE=DURATION:PT1H
X-Robots-Tag:noindex
X-PUBLISHED-TTL:PT1H
BEGIN:VTIMEZONE
TZID:America/Sao_Paulo
BEGIN:STANDARD
TZOFFSETFROM:-0300
TZOFFSETTO:-0300
TZNAME:-03
DTSTART:20250101T000000
END:STANDARD
END:VTIMEZONE
BEGIN:VEVENT
DTSTART;TZID=America/Sao_Paulo:20260228T083000
DTEND;TZID=America/Sao_Paulo:20260228T100000
DTSTAMP:20260422T081149
CREATED:20260129T174529Z
LAST-MODIFIED:20260129T174529Z
UID:58516-1772267400-1772272800@febrapsi.org
SUMMARY:GEP de Marília e Região lança curso sobre Psicanálise de Criança
DESCRIPTION:Psicanálise de Criança: Teoria e Técnica \nA clínica psicanalítica com crianças exige escuta sensível\, rigor teórico e abertura ao brincar\, à linguagem simbólica e aos movimentos próprios da infância. Pensar a psicanálise de criança é sustentar um campo clínico em que afeto\, fantasia e desenvolvimento se entrelaçam\, oferecendo lugar à singularidade de cada percurso. \nÉ a partir dessa perspectiva que o GEP Marília e Região apresenta o curso “Psicanálise de Criança: Teoria e Técnica”\, voltado a graduandos dos últimos anos e a profissionais de Psicologia e Medicina interessados em aprofundar à construção cuidadosa da clínica com crianças. O curso será coordenado por Elaine Cardin\, Maria Inês Alves\, Maria Marcia Guedes e Márcio Oldack\, e propõe um espaço de estudo e reflexão ao longo de 2026. \nCurso anual com aulas semanais on-line\, ao vivo pelo Zoom\, aos sábados das 8h30 às 10h.\nInformações e inscrições (14) 99614-6782
URL:https://febrapsi.org/evento/gep-de-marilia-e-regiao-lanca-curso-sobre-psicanalise-de-crianca/
CATEGORIES:Geral
ATTACH;FMTTYPE=image/png:https://febrapsi.org/storage/2026/01/curso-crianca-novo-formato.png
END:VEVENT
END:VCALENDAR