BEGIN:VCALENDAR
VERSION:2.0
PRODID:-//FEBRAPSI - ECPv6.15.20//NONSGML v1.0//EN
CALSCALE:GREGORIAN
METHOD:PUBLISH
X-WR-CALNAME:FEBRAPSI
X-ORIGINAL-URL:https://febrapsi.org
X-WR-CALDESC:Eventos para FEBRAPSI
REFRESH-INTERVAL;VALUE=DURATION:PT1H
X-Robots-Tag:noindex
X-PUBLISHED-TTL:PT1H
BEGIN:VTIMEZONE
TZID:America/Sao_Paulo
BEGIN:STANDARD
TZOFFSETFROM:-0300
TZOFFSETTO:-0300
TZNAME:-03
DTSTART:20200101T000000
END:STANDARD
END:VTIMEZONE
BEGIN:VEVENT
DTSTART;TZID=America/Sao_Paulo:20211107T180000
DTEND;TZID=America/Sao_Paulo:20211107T210000
DTSTAMP:20260424T035622
CREATED:20211017T174250Z
LAST-MODIFIED:20211017T174250Z
UID:39103-1636308000-1636318800@febrapsi.org
SUMMARY:Feira do Livro 2021 - Sarau: Sonharte - Sonhos\, Arte e Psicanálise
DESCRIPTION:Convidamos para a 67ª Feira do Livro de Porto Alegre – XXIV Ciclo da Revista de Psicanálise da SPPA – Câmara Riograndense do Livro – Sarau: Sonharte – Sonhos\, Arte e Psicanálise\, no dia 7 de novembro (domingo)\, às 18h\, no Youtube. \nConvidados:\nPedro Gonzaga (Professor de Literatura e Poeta)\nIvone Rizzo Bins (Artista Plástica e Ilustradora)\nCátia Olivier Mello (Psicanalista da SPPA) \nQuarteto vocal\nAna Cláudia Meregalli / Kariny Schoenfeldt\nAlexandre Madrilha / Inácio do Canto \nLink de acesso:\nhttps://youtu.be/4u0F5dFzeF8
URL:https://febrapsi.org/evento/feira-do-livro-2021-sarau-sonharte-sonhos-arte-e-psicanalise/
LOCATION:Online – Youtube\, Brasil
CATEGORIES:Geral
ATTACH;FMTTYPE=image/jpeg:https://febrapsi.org/storage/2021/10/Feira-do-Livro-2021-Sarau-Sonharte-Sonhos-Arte-e-Psicanálise.jpg
ORGANIZER;CN="SPPA":MAILTO:sppa@sppa.org.br
END:VEVENT
END:VCALENDAR