BEGIN:VCALENDAR
VERSION:2.0
PRODID:-//FEBRAPSI - ECPv6.15.20//NONSGML v1.0//EN
CALSCALE:GREGORIAN
METHOD:PUBLISH
X-WR-CALNAME:FEBRAPSI
X-ORIGINAL-URL:https://febrapsi.org
X-WR-CALDESC:Eventos para FEBRAPSI
REFRESH-INTERVAL;VALUE=DURATION:PT1H
X-Robots-Tag:noindex
X-PUBLISHED-TTL:PT1H
BEGIN:VTIMEZONE
TZID:America/Sao_Paulo
BEGIN:STANDARD
TZOFFSETFROM:-0200
TZOFFSETTO:-0300
TZNAME:-03
DTSTART:20190217T020000
END:STANDARD
END:VTIMEZONE
BEGIN:VEVENT
DTSTART;TZID=America/Sao_Paulo:20200617T000000
DTEND;TZID=America/Sao_Paulo:20200617T000000
DTSTAMP:20260423T171731
CREATED:20210615T035033Z
LAST-MODIFIED:20211014T080858Z
UID:8146-1592352000-1592352000@febrapsi.org
SUMMARY:Evento - Por trás das máscaras: angústias\, medos e estresse dos profissionais de saúde na Covid-19
DESCRIPTION:Evento – Por trás das máscaras: angústias\, medos e estresse dos profissionais de saúde na Covid-19\n \nDebatedores\n\n\n\n\n\n\n\n\n\n\n\n\n \nRivaldo Venâncio Por Trás das Máscaras – SPMS(4) (2)\nMédico infectologista\, doutor em Medicina Tropical\, professor da Medicina da UFMS e FIOCRUZ\n \nTiago Amador Correia \nEnfermeiro\, mestre em Ensino em Saúde\, responsável técnico da UTI do HU/UFGD\, preceptor da Residência Multiprofissional HU/UFGD\n \nMiriam Cátia Codorniz\nPsicóloga\, psicanalista\, membro efetivo e analista em função didática do IP da SPMS\, FEBRAPSI\, FEPAL e IPA\, presidente da SPMS\n \n Coordenadora da mesa\nAnelise Rotta Machinsky\nPsicóloga\, psicanalista\, membro efetivo da SPMS\, FEBRAPSI\, FEPAL e IPA\n \nCocoordenadoras \nClaudia Regina Oliveira Lima\nPsicóloga\, psicanalista\, membro associado da SPMS\, FEBRAPSI\, FEPAL e IPA\n \nEdnéia Albino Cerchiari\nPsicóloga\, psicanalista\, membro efetivo e analista em função didática da SPMS\, FEBRAPSI\, FEPAL e IPA\n \nMaria de Lourdes Jeffery Contini\nPsicóloga\, psicanalista\, membro associado da SPMS\, FEBRAPSI\, FEPAL e IPA\n \nTerezinha Alcântara Silva\nPsicóloga\, psicanalista\, membro efetivo e analista em função didática da SPMS\, FEBRAPSI\, FEPAL e IPA\n \nData: 17/06/2020 \nHorário: 20h00 \nPúblico alvo: profissionais da área da saúde \n \nEvento pela plataforma Zoom\n \nRealização do DACC da SPMS\n \nClique aqui e faça sua inscrição – Vagas limitadas e gratuitas
URL:https://febrapsi.org/evento/evento-por-tras-das-mascaras-angustias-medos-e-estresse-dos-profissionais-de-saude-na-covid-19/
CATEGORIES:Geral
ATTACH;FMTTYPE=image/jpeg:https://febrapsi.org/storage/2021/06/por-tras-das-mascaras-spms1-70uuy7.tmp_.jpg
END:VEVENT
END:VCALENDAR