BEGIN:VCALENDAR
VERSION:2.0
PRODID:-//FEBRAPSI - ECPv6.15.20//NONSGML v1.0//EN
CALSCALE:GREGORIAN
METHOD:PUBLISH
X-WR-CALNAME:FEBRAPSI
X-ORIGINAL-URL:https://febrapsi.org
X-WR-CALDESC:Eventos para FEBRAPSI
REFRESH-INTERVAL;VALUE=DURATION:PT1H
X-Robots-Tag:noindex
X-PUBLISHED-TTL:PT1H
BEGIN:VTIMEZONE
TZID:America/Sao_Paulo
BEGIN:STANDARD
TZOFFSETFROM:-0200
TZOFFSETTO:-0300
TZNAME:-03
DTSTART:20190217T020000
END:STANDARD
END:VTIMEZONE
BEGIN:VEVENT
DTSTART;TZID=America/Sao_Paulo:20201114T000000
DTEND;TZID=America/Sao_Paulo:20201114T000000
DTSTAMP:20260423T115355
CREATED:20210615T035202Z
LAST-MODIFIED:20211014T080858Z
UID:8185-1605312000-1605312000@febrapsi.org
SUMMARY:Dos laços iniciais aos virtuais - Evento preparatório para o 28º Congresso Brasileiro de Psicanálise
DESCRIPTION:As três federadas do Rio – SPRJ\, SBPRJ e APERJ-Rio4\, juntamente com a FEBRAPSI – realizarão\, no dia 14 de novembro de 2020\, às 9h30\, o evento preparatório para o 28º Congresso Brasileiro de Psicanálise no formato online\, com transmissão ao vivo pelo Youtube da FEBRAPSI. \nSegue a programação: \nDos laços iniciais aos virtuais \n9:30 Sessão de Abertura \nCintia Xavier de Albuquerque\, presidente da FEBRAPSI \nBernard Miodownik\, Diretor Cientifico da FEBRAPSI \nRosa Reis\, presidente da SPRJ \nAna Sabrosa\, presidente da SBPRJ \nLindenberg Rocha\, presidente da APERJ-Rio4 \n10:00 -11:30 \nLaços familiares: assassinato e sobrevivência do pai. \nMarion Minerbo\, SBPSP \nOs primeiros laços: identificação e empatia. \nRoberto Santoro\, SPRJ \nCoordenadora: Monica Aguiar\, diretora científica da SBPRJ \nIntervalo \n11:40 – 13:10 \nOs primeiros laços de um bebê especialmente dotado. \nSergio Nick\, SBPRJ e vice-presidente da IPA \nEspelhos e Telas: Quem é o Adolescente Digital? \nEvelyn Eisenstein\, UERJ e membro da Sociedade Brasileira de Pediatria -SBP \nCoordenadora: Mariangela Relvas\, diretora científica da SPRJ \nO evento será gratuito\, aberto a membros da Febrapsi e ao público externo. \nInscrições abertas até 13 de novembro\, às 18h. \nINSCREVA-SE AQUI => https://forms.gle/tk4XWvoNFxVyLrsZ6
URL:https://febrapsi.org/evento/dos-lacos-iniciais-aos-virtuais-evento-preparatorio-para-o-28o-congresso-brasileiro-de-psicanalise/
CATEGORIES:Geral
END:VEVENT
END:VCALENDAR