BEGIN:VCALENDAR
VERSION:2.0
PRODID:-//FEBRAPSI - ECPv6.15.20//NONSGML v1.0//EN
CALSCALE:GREGORIAN
METHOD:PUBLISH
X-WR-CALNAME:FEBRAPSI
X-ORIGINAL-URL:https://febrapsi.org
X-WR-CALDESC:Eventos para FEBRAPSI
REFRESH-INTERVAL;VALUE=DURATION:PT1H
X-Robots-Tag:noindex
X-PUBLISHED-TTL:PT1H
BEGIN:VTIMEZONE
TZID:America/Sao_Paulo
BEGIN:STANDARD
TZOFFSETFROM:-0300
TZOFFSETTO:-0300
TZNAME:-03
DTSTART:20200101T000000
END:STANDARD
END:VTIMEZONE
BEGIN:VEVENT
DTSTART;TZID=America/Sao_Paulo:20210511T194500
DTEND;TZID=America/Sao_Paulo:20210511T194500
DTSTAMP:20260424T125540
CREATED:20211014T064253Z
LAST-MODIFIED:20211014T080856Z
UID:38654-1620762300-1620762300@febrapsi.org
SUMMARY:Donald Winnicott - Um olhar teórico-clínico sobre o desenvolvimento humano
DESCRIPTION:Donald Winnicott – Um olhar teórico-clínico sobre o desenvolvimento humano
URL:https://febrapsi.org/evento/donald-winnicott-um-olhar-teorico-clinico-sobre-o-desenvolvimento-humano/
CATEGORIES:Geral
ORGANIZER;CN="SPRJ":MAILTO:sprj.rio1@sprj.org.br
END:VEVENT
END:VCALENDAR