BEGIN:VCALENDAR
VERSION:2.0
PRODID:-//FEBRAPSI - ECPv6.15.20//NONSGML v1.0//EN
CALSCALE:GREGORIAN
METHOD:PUBLISH
X-WR-CALNAME:FEBRAPSI
X-ORIGINAL-URL:https://febrapsi.org
X-WR-CALDESC:Eventos para FEBRAPSI
REFRESH-INTERVAL;VALUE=DURATION:PT1H
X-Robots-Tag:noindex
X-PUBLISHED-TTL:PT1H
BEGIN:VTIMEZONE
TZID:America/Sao_Paulo
BEGIN:STANDARD
TZOFFSETFROM:-0300
TZOFFSETTO:-0300
TZNAME:-03
DTSTART:20250101T000000
END:STANDARD
END:VTIMEZONE
BEGIN:VEVENT
DTSTART;TZID=America/Sao_Paulo:20260321T090000
DTEND;TZID=America/Sao_Paulo:20260321T140000
DTSTAMP:20260420T064133
CREATED:20251013T180604Z
LAST-MODIFIED:20251013T180604Z
UID:56861-1774083600-1774101600@febrapsi.org
SUMMARY:DIVERSIDADE DE GÊNERO NA PSICANÁLISE: (DES)ASSOSSEGO NA CLÍNICA
DESCRIPTION:II ENCONTRO DAS SEÇÕES REGIONAIS DE JUNDIAÍ E VALINHOS \nDA SOCIEDADE BRASILEIRA DE PSICANÁLISE DE SÃO PAULO\n \nDIVERSIDADE DE GÊNERO NA PSICANÁLISE: \n(DES)ASSOSSEGO NA CLÍNICA\n \nEVENTO HÍBRIDO | ABERTO AO PÚBLICO\nSábado\, 21 de março de 2026 das 9h às 14h\n \nABERTURA:  9h \nMAGDA GUIMARÃES KHOURI\nPresidente da SBPSP\n \nROSEMARY DE FÁTIMA BULGARÃO\nDiretora Regional da SBPSP\n \nMARTA ÚRSULA LAMBRECHT\nMembro efetivo e Analista didata da SBPSP\, Representante da Seção Regional de Jundiaí da SBPSP\n \nCoordenação:\nSILVANA BRESSAN DE OLIVEIRA\nMembro Associado da SBPSP\, Representante da Seção Regional de Valinhos da SBPSP\n \nMESA I: 9h30\nTEMA: DIVERSIDADE SEXUAL E DIVERSIDADE DO SEXUAL: ALGUMAS REFLEXÕES\nPALESTRANTE: RODRIGO LAGE LEITE  \nPsicanalista. Membro Efetivo e Docente da SBPSP\n \nCOFFEE BREAK:  11h às 11h20\n \nMESA II: 11h30\nTEMA: FREUD E A RUPTURA COM A HETERONORMATIVIDADE\nPALESTRANTE: CECÍLIA M. de B. ORSINI\nMembro Efetivo e Docente da obra de Freud no Instituto de formação da SBPSP\n \nPSIQUÊ EM MÚSICA: 13h\n \nENCERRAMENTO: 14h\n \nInvestimento:\nProfissionais: R$ 130\,00\nEstudantes e estagiários: R$ 60\,00\nMembros Filiados da SBPSP: R$ 110\,00\nCotas: 10% para negros\, indígenas e refugiados \n \nLOCAL: HOTEL SERRA JUNDIAI \nRua Av. Comend. Gumercindo Barranqueiros\, 80\nJardim Santa Teresa\, Jundiaí – SP
URL:https://febrapsi.org/evento/diversidade-de-genero-na-psicanalise-desassossego-na-clinica/
LOCATION:HOTEL SERRA JUNDIAI\, Rua Av. Comend. Gumercindo Barranqueiros\, 80 Jardim Santa Teresa\, Jundiaí\, São Paulo\, Brazil
CATEGORIES:Geral
ATTACH;FMTTYPE=image/png:https://febrapsi.org/storage/2025/10/CARTAZ-DIVERSIDADE-DE-GENERO.png
ORGANIZER;CN="SBPSP":MAILTO:contato@sbpsp.org.br
END:VEVENT
END:VCALENDAR