BEGIN:VCALENDAR
VERSION:2.0
PRODID:-//FEBRAPSI - ECPv6.15.20//NONSGML v1.0//EN
CALSCALE:GREGORIAN
METHOD:PUBLISH
X-WR-CALNAME:FEBRAPSI
X-ORIGINAL-URL:https://febrapsi.org
X-WR-CALDESC:Eventos para FEBRAPSI
REFRESH-INTERVAL;VALUE=DURATION:PT1H
X-Robots-Tag:noindex
X-PUBLISHED-TTL:PT1H
BEGIN:VTIMEZONE
TZID:America/Sao_Paulo
BEGIN:STANDARD
TZOFFSETFROM:-0200
TZOFFSETTO:-0300
TZNAME:-03
DTSTART:20180218T020000
END:STANDARD
BEGIN:DAYLIGHT
TZOFFSETFROM:-0300
TZOFFSETTO:-0200
TZNAME:-02
DTSTART:20181104T030000
END:DAYLIGHT
BEGIN:STANDARD
TZOFFSETFROM:-0200
TZOFFSETTO:-0300
TZNAME:-03
DTSTART:20190217T020000
END:STANDARD
END:VTIMEZONE
BEGIN:VEVENT
DTSTART;TZID=America/Sao_Paulo:20190829T000000
DTEND;TZID=America/Sao_Paulo:20190829T000000
DTSTAMP:20260424T035357
CREATED:20210615T034847Z
LAST-MODIFIED:20211014T080859Z
UID:8089-1567036800-1567036800@febrapsi.org
SUMMARY:Diálogos Interdisciplinares
DESCRIPTION:A Sociedade Psicanalítica de Pelotas convida para a atividade DIÁLOGOS INTERDISCIPLINARES\, dia 29 de agosto\, às 20h. na sede da SPPel – Rua Princesa Isabel\, 280/1105 – Pelotas\, com a Roda de Conversa “CONSTRUINDO O PROCESSO CRIATIVO: NATUREZAS URBANAS”. Apresentação: GORDO17 e GUINR  Comentários: Dr. José Francisco Rotta Pereira \n 
URL:https://febrapsi.org/evento/dialogos-interdisciplinares/
CATEGORIES:Geral
END:VEVENT
END:VCALENDAR