BEGIN:VCALENDAR
VERSION:2.0
PRODID:-//FEBRAPSI - ECPv6.15.20//NONSGML v1.0//EN
CALSCALE:GREGORIAN
METHOD:PUBLISH
X-WR-CALNAME:FEBRAPSI
X-ORIGINAL-URL:https://febrapsi.org
X-WR-CALDESC:Eventos para FEBRAPSI
REFRESH-INTERVAL;VALUE=DURATION:PT1H
X-Robots-Tag:noindex
X-PUBLISHED-TTL:PT1H
BEGIN:VTIMEZONE
TZID:America/Sao_Paulo
BEGIN:STANDARD
TZOFFSETFROM:-0200
TZOFFSETTO:-0300
TZNAME:-03
DTSTART:20180218T020000
END:STANDARD
BEGIN:DAYLIGHT
TZOFFSETFROM:-0300
TZOFFSETTO:-0200
TZNAME:-02
DTSTART:20181104T030000
END:DAYLIGHT
BEGIN:STANDARD
TZOFFSETFROM:-0200
TZOFFSETTO:-0300
TZNAME:-03
DTSTART:20190217T020000
END:STANDARD
END:VTIMEZONE
BEGIN:VEVENT
DTSTART;TZID=America/Sao_Paulo:20191024T000000
DTEND;TZID=America/Sao_Paulo:20191024T000000
DTSTAMP:20260424T062605
CREATED:20210615T034918Z
LAST-MODIFIED:20211014T080859Z
UID:8105-1571875200-1571875200@febrapsi.org
SUMMARY:Diálogos Interdisciplinares - Cinema e Psicanálise
DESCRIPTION:Diálogos Interdisciplinares – Cinema e Psicanálise \nFilme: O Amante Duplo \n24/10/2019  \n18:30h.- Projeção do filme \n20:15h.- Discussão  \nIntrodução dos comentários: Dr. Bruno Salésio Francisco Psicanalista da SPPel
URL:https://febrapsi.org/evento/dialogos-interdisciplinares-cinema-e-psicanalise/
CATEGORIES:Geral
END:VEVENT
END:VCALENDAR