BEGIN:VCALENDAR
VERSION:2.0
PRODID:-//FEBRAPSI - ECPv6.15.20//NONSGML v1.0//EN
CALSCALE:GREGORIAN
METHOD:PUBLISH
X-WR-CALNAME:FEBRAPSI
X-ORIGINAL-URL:https://febrapsi.org
X-WR-CALDESC:Eventos para FEBRAPSI
REFRESH-INTERVAL;VALUE=DURATION:PT1H
X-Robots-Tag:noindex
X-PUBLISHED-TTL:PT1H
BEGIN:VTIMEZONE
TZID:America/Sao_Paulo
BEGIN:STANDARD
TZOFFSETFROM:-0300
TZOFFSETTO:-0300
TZNAME:-03
DTSTART:20200101T000000
END:STANDARD
END:VTIMEZONE
BEGIN:VEVENT
DTSTART;TZID=America/Sao_Paulo:20210618T143500
DTEND;TZID=America/Sao_Paulo:20210618T143500
DTSTAMP:20260423T233837
CREATED:20211014T064352Z
LAST-MODIFIED:20211014T080856Z
UID:38675-1624026900-1624026900@febrapsi.org
SUMMARY:Diálogos com a Comunidade
DESCRIPTION:Diálogos com a Comunidade \n“A vida é a arte do encontro\, embora haja tanto desencontro pela vida.”  Vinícius de Moraes \nLisiani Rotta \nEscritora \nCronista do Diário Popular \nIdealizadora do 50+ \n  \nRosaura Rotta Pereira \nAnalista Titular em função didática da SPPel \nEnlace da COFAP \n  \nDia 24/06/2021 \n20h \nPlataforma zoom \nInscrições: sppelotas@gmail.com
URL:https://febrapsi.org/evento/dialogos-com-a-comunidade/
CATEGORIES:Geral
ATTACH;FMTTYPE=image/jpeg:https://febrapsi.org/storage/2021/10/cartaz-dialogos-comunidade-24-06-21-LYkfIh.tmp_.jpg
END:VEVENT
END:VCALENDAR