BEGIN:VCALENDAR
VERSION:2.0
PRODID:-//FEBRAPSI - ECPv6.15.20//NONSGML v1.0//EN
CALSCALE:GREGORIAN
METHOD:PUBLISH
X-WR-CALNAME:FEBRAPSI
X-ORIGINAL-URL:https://febrapsi.org
X-WR-CALDESC:Eventos para FEBRAPSI
REFRESH-INTERVAL;VALUE=DURATION:PT1H
X-Robots-Tag:noindex
X-PUBLISHED-TTL:PT1H
BEGIN:VTIMEZONE
TZID:America/Sao_Paulo
BEGIN:STANDARD
TZOFFSETFROM:-0300
TZOFFSETTO:-0300
TZNAME:-03
DTSTART:19690101T000000
END:STANDARD
END:VTIMEZONE
BEGIN:VEVENT
DTSTART;TZID=America/Sao_Paulo:20260423T075851
DTEND;TZID=America/Sao_Paulo:20260423T075851
DTSTAMP:20260423T075851
CREATED:20210615T035048Z
LAST-MODIFIED:20211014T080902Z
UID:8151-0-0@febrapsi.org
SUMMARY:Curso Introdução à Psicanálise
DESCRIPTION:As vagas para o Curso “Introdução à Psicanálise”\, que terá início no dia 21 de agosto\, estão esgotadas. Se você tiver interesse para a próxima turma\, abordando a mesma temática\, pode enviar um e-mail para cursointropsi2020@gmail.com\, que entraremos em contato\, tão logo tenhamos o período de realização do curso. \nVIA PLATAFORMA_ZOOM \nDatas: 21 e 28 de agosto |  4\,11\,18 e 25 de setembro – Sextas-feiras – das 11h45 às 13h \nCoordenadoras: \nANA SABROSA – Psicanalista de adultos\, crianças e adolescentes\, membro Efetivo e presidente SBPRJ ( 2019-2020)\, Mestre em Psicologia (FGV)\nHAYDÉE CÔRTES PIÑA RODRIGUES – Psicanalista\, membro Associado SBPRJ\, especialista em Atenção Integral à Saúde Materno-infantil (UFRJ)\, psicoterapeuta de casal e familia (PUC-RJ) \nMARCELA OURO PRETO – Psicanalista de adultos\, crianças e adolescentes\, membro Efetivo SBPRJ\, membro da Comissão de Psicanálise de Crianças e Adolescentes da FEPAL \nPúblico: profissionais e universitários interessados em Psicanálise. \nCom certificado \nMais informações e inscrições aqui
URL:https://febrapsi.org/evento/curso-introducao-a-psicanalise/
CATEGORIES:Geral
END:VEVENT
END:VCALENDAR