BEGIN:VCALENDAR
VERSION:2.0
PRODID:-//FEBRAPSI - ECPv6.15.20//NONSGML v1.0//EN
CALSCALE:GREGORIAN
METHOD:PUBLISH
X-WR-CALNAME:FEBRAPSI
X-ORIGINAL-URL:https://febrapsi.org
X-WR-CALDESC:Eventos para FEBRAPSI
REFRESH-INTERVAL;VALUE=DURATION:PT1H
X-Robots-Tag:noindex
X-PUBLISHED-TTL:PT1H
BEGIN:VTIMEZONE
TZID:America/Sao_Paulo
BEGIN:STANDARD
TZOFFSETFROM:-0300
TZOFFSETTO:-0300
TZNAME:-03
DTSTART:20200101T000000
END:STANDARD
END:VTIMEZONE
BEGIN:VEVENT
DTSTART;TZID=America/Sao_Paulo:20210802T141000
DTEND;TZID=America/Sao_Paulo:20210802T141000
DTSTAMP:20260423T230913
CREATED:20211014T064408Z
LAST-MODIFIED:20211014T080856Z
UID:38683-1627913400-1627913400@febrapsi.org
SUMMARY:CURSO DIÁLOGOS PSICANALÍTICOS NA ATUALIDADE
DESCRIPTION:Programação: Agosto: 7/8/2021- 9h00 às 12h00 \nTema: Pulsão de vida e pulsão de morte: do desamparo à criatividade\nCoordenação: Lídia Queiroz S. Magnino (SBPSP) \nOrganização: \nCacilda G. P. Vilas Boas (SBPSP) e Elaine I. S. Cardin (SBPSP)\nBibliografia: Freud\, S. (1969) Além do principio do prazer. In Edição standard brasileira das obras psicológicas completas de Sigmund Freud.Rio de Janeiro:Ed. Imago\,v.XVIII.\n______ O ego e o id. In Edição standard brasileira das obras psicológicas completas de Sigmund Freud.Rio de Janeiro:Ed. Imago\,v.XIX \nSetembro: 4/9/2021- 9h00 às 12h00 \nTema: Abuso e Violência nas relações afetivas \nCoordenação: Cristina Maria Cortezzi (SBPSP) \nOrganização: \nNeuci Maria Gallazzi (SBPSP) e Sueli Pesco (SBPSP)\nBibliografia: Durban\, J (2007) O “Complexo do Vitimador “ e suas vicissitudes no abuso de crianças\, in Holovko\, C. & Cortezzi\, C. (Org) Sexualidades e Gênero: desafios da psicanálise . Ed. Blucher \nOutubro: 2/10/2021- 9h00 às 12h00 \nTema: Vínculos: entre o ataque ao vínculo e a manutenção dos laços afetivos\nCoordenação: Adriana Cortelletti Uchôa (SBPSP) \nOrganização: \nBenedita de Lourdes C. Rodrigues (SBPSP) e Cássia Regina G. Fernandes (SBPSP) \nBibliografia: Bion\, ( 1967) W.\, Ataques ao Elo de Ligação in Estudos Psicanalíticos Revisados cap. 8- pág. 87a100. Ed.\n \nNovembro: 20/11/2021- 9h00 às 12h00 \nTema: Formas de expressão da sexualidade: seu lugar no contexto sócio-cultural e na clínica\nCoordenação: Jurenice Picado Alvares (SBPSP) \nOrganização: \nAngela Maria Jimenes B. de Castro (SBPSP) e Silvana Bressan de Oliveira (SBPSP) \nBibliografia: Costa\, G.\, (2007) Considerações psicanalíticas sobre sexualidade e gênero inSexualidade e Gênero: desafios da psicanálise. (Org.) Holovko\, C. e Cortezzi\, C. Ed. Blucher \nSerá fornecido certificado para quem tiver no mínimo 75% de frequência.
URL:https://febrapsi.org/evento/curso-dialogos-psicanaliticos-na-atualidade-2/
CATEGORIES:Geral
END:VEVENT
END:VCALENDAR