BEGIN:VCALENDAR
VERSION:2.0
PRODID:-//FEBRAPSI - ECPv6.15.20//NONSGML v1.0//EN
CALSCALE:GREGORIAN
METHOD:PUBLISH
X-WR-CALNAME:FEBRAPSI
X-ORIGINAL-URL:https://febrapsi.org
X-WR-CALDESC:Eventos para FEBRAPSI
REFRESH-INTERVAL;VALUE=DURATION:PT1H
X-Robots-Tag:noindex
X-PUBLISHED-TTL:PT1H
BEGIN:VTIMEZONE
TZID:America/Sao_Paulo
BEGIN:STANDARD
TZOFFSETFROM:-0300
TZOFFSETTO:-0300
TZNAME:-03
DTSTART:20200101T000000
END:STANDARD
END:VTIMEZONE
BEGIN:VEVENT
DTSTART;TZID=America/Sao_Paulo:20210316T195700
DTEND;TZID=America/Sao_Paulo:20210316T195700
DTSTAMP:20260426T010101
CREATED:20211014T064020Z
LAST-MODIFIED:20211014T080857Z
UID:38629-1615924620-1615924620@febrapsi.org
SUMMARY:CURSO 2: OFICINAS DE SENSIBILIDADE: EXPERIÊNCIAS CLÍNICAS E CULTURAIS
DESCRIPTION:PROGRAMA “Clínica e Cultura” \nO objetivo mais amplo desse Programa é oferecer subsídios teóricos e clínicos para uma reflexão sobre as articulações entre cultura e psicanálise. Mas\, o que entendemos pelo termo cultura? Uma definição geral desse termo é a seguinte: cultura é o modo de vida do ser humano\, entendido como animal simbólico (Cassirer). Esta é uma concepção que alcança o universal. E\, ao mesmo tempo\, inclui o particular\, pois a palavra modo aponta para a particularidade do sistema de regras que define as relações sociais e os objetos\, as formas de conhecer\, pensar\, agir\, sentir e expressar\, em suma\, as condições materiais e simbólicas de uma sociedade historicamente determinada. Nesse contexto\, cabe refletir não apenas sobre a presença da cultura na psicanálise\, mas sobre a necessidade da primeira para o exercício da segunda\, assim como sobre o uso da psicanálise para a interpretação dos fenômenos culturais nas suas especificidades. \nO Programa será desenvolvido na forma de dois cursos: o curso 1\, por intermédio de reuniões mensais cujos temas serão abordados em palestras abertas à discussão com os presentes; o curso 2\, na forma de oficinas de trabalho sensível cujos temas clínico-culturais serão apresentados como estímulos. Tais temas\, desenvolvidos junto aos participantes\, têm o propósito de promover uma reflexão\, mediada pelos coordenadores\, para sensibilizar o grupo.  Para participar das atividades\, os interessados deverão se inscrever no site da SBPSP. As oficinas terão número limitado de inscrições. Membros filiados ao Instituto e membros da SBPSP estão isentos da taxa de inscrição. \nSerá fornecido certificado de participação ao inscrito que tiver 75 % de frequência. \nDIRETORIA DE CULTURA E COMUNIDADE – DCC \nCoordenação das atividades:  João A. Frayze-Pereira (Diretor)\, Cândida Sé Holovko\, Lila Schwartz\, Marisa Granchelli\, Marlene Rozenberg\, Mirian Malzyner\, Norma Lottenberg Semer\, Raquel Pires\, Tânia Zalcberg. \nValor da inscrição em cada oficina: R$30\,00. \n\n\n\n \n\n \n\n\n\nGold Coin  Gustav Klimt  Medicine 50 E\nhttps://www.muenzeoesterreich.at/eng/produkte/medicine \n  \nInscrições: \nwww.sbpsp.org.br \nfabiana@sbpsp.org.br
URL:https://febrapsi.org/evento/curso-2-oficinas-de-sensibilidade-experiencias-clinicas-e-culturais/
CATEGORIES:Geral
END:VEVENT
END:VCALENDAR