BEGIN:VCALENDAR
VERSION:2.0
PRODID:-//FEBRAPSI - ECPv6.15.20//NONSGML v1.0//EN
CALSCALE:GREGORIAN
METHOD:PUBLISH
X-WR-CALNAME:FEBRAPSI
X-ORIGINAL-URL:https://febrapsi.org
X-WR-CALDESC:Eventos para FEBRAPSI
REFRESH-INTERVAL;VALUE=DURATION:PT1H
X-Robots-Tag:noindex
X-PUBLISHED-TTL:PT1H
BEGIN:VTIMEZONE
TZID:America/Sao_Paulo
BEGIN:STANDARD
TZOFFSETFROM:-0300
TZOFFSETTO:-0300
TZNAME:-03
DTSTART:20200101T000000
END:STANDARD
END:VTIMEZONE
BEGIN:VEVENT
DTSTART;TZID=America/Sao_Paulo:20210810T180400
DTEND;TZID=America/Sao_Paulo:20210810T180400
DTSTAMP:20260424T083241
CREATED:20211014T064423Z
LAST-MODIFIED:20211014T080855Z
UID:38691-1628618640-1628618640@febrapsi.org
SUMMARY:CURSO 1: PSICANÁLISE: CLÍNICA E CULTURA - AGOSTO
DESCRIPTION:Cultura erudita / Sociedade do espetáculo: cultura / anticultura Apresentação: João Frayze-Pereira (USP-SBPSP)\nPalestrantes: Ricardo Fabbrini ( USP ) e Cristina Freire (USP)\nCoordenação: Lila Schwartz (SBPSP)\n \nDiretoria de Cultura e Comunidade – 2021\nDiretor: João A. Frayze-Pereira. \nComissão:  \nLila Schwartz\, Marisa Granchelli\, Marlene Rozenberg\, Mirian Malzyner\, Norma Lottenberg Semer\, Raquel Pires\, Tânia Zalcberg.\n \n \nPROGRAMA “Clínica e Cultura”\n \nO objetivo mais amplo desse Programa é oferecer subsídios teóricos e clínicos para uma reflexão sobre as articulações entre cultura e psicanálise. Mas\, o que entendemos pelo termo cultura? Uma definição geral desse termo é a seguinte: cultura é o modo de vida do ser humano\, entendido como animal simbólico (Cassirer). Esta é uma concepção que alcança o universal. E\, ao mesmo tempo\, inclui o particular\, pois a palavra modo aponta para a particularidade do sistema de regras que define as relações sociais e os objetos\, as formas de conhecer\, pensar\, agir\, sentir e expressar\, em suma\, as condições materiais e simbólicas de uma sociedade historicamente determinada. Nesse contexto\, cabe refletir não apenas sobre a presença da cultura na psicanálise\, mas sobre a necessidade da primeira para o exercício da segunda\, assim como sobre o uso da psicanálise para a interpretação dos fenômenos culturais nas suas especificidades.\n \nO Programa será desenvolvido na forma de dois cursos: o curso 1\, por intermédio de reuniões mensais cujos temas serão abordados em palestras abertas à discussão com os presentes; o curso 2\, na forma de oficinas de trabalho sensível cujos temas clínico-culturais serão apresentados como estímulos. Tais temas\, desenvolvidos junto aos participantes\, têm o propósito de promover uma reflexão\, mediada pelos coordenadores\, para sensibilizar o grupo.  Para participar das atividades\, os interessados deverão se inscrever no site da SBPSP. As oficinas terão número limitado de inscrições. Membros filiados ao Instituto e membros da SBPSP estão isentos da taxa de inscrição.\n \nCertificados serão fornecidos aos inscritos com 75% de frequência.\n \nValor da inscrição em cada reunião: R$60\,00.\n\n\n\n\n\n\n\nGold Coin  Gustav Klimt  Medicine 50 E\nhttps://www.muenzeoesterreich.at/eng/produkte/medicine
URL:https://febrapsi.org/evento/curso-1-psicanalise-clinica-e-cultura-agosto/
CATEGORIES:Geral
ATTACH;FMTTYPE=image/png:https://febrapsi.org/storage/2021/10/cartaz-curso-1-psicanalise-clinica-e-cultura-oYAfok.tmp_.png
END:VEVENT
END:VCALENDAR